Workbook

Sheet PLANILHA orçamentária
A1: PREFEITURA MUNICIPAL DE NOVORIZONTE
A2: ESTADO DE MINAS GERAIS
A3: PLANILHA ORÇAMENTÁRIA
A4: OBRA: | B4: CONSTRUÇÃO DE CAPELA VELÓRIO COM ÁREA CONSTRUÍDA DE 91,74M2 | G4: DATA: | H4: 44007
A5: LOCAL: | B5: RUA PACÍFICO SANTO DE ALMEIDA, S/Nº - CENTRO - NOVORIZONTE/MG | G5: BDI: | H5: 0.209
A6: Itens | B6: Ref. | C6: Descrição | D6: Und | E6: Quant | F6: P. unit. s/ BDI | G6: P. unit. c/ BDI | H6: Total
A7: 1 | C7: SERVIÇOS PRELIMINARES
A8: 1.1 | B8: IIO-PLA-005 | C8: FORNECIMENTO E COLOCAÇÃO DE PLACA DE OBRA EM CHAPA GALVANIZADA (2,00 X 1,00 M) - EM CHAPA GALVANIZADA 0,26 AFIXADAS COM REBITES 540 E PARAFUSOS 3/8, EM ESTRUTURA METÁLICA VIGA U 2" ENRIJECIDA COM METALON 20X20, SUPORTE EM EUCALIPTO AUTOCLAVADO PINTADAS | D8: Und | E8: ='memória de cálculo'!I3 -> 1 | F8: 483.23 | G8: =ROUND(F8*H$5+F8,2) -> 584.23 | H8: =ROUND(G8*E8,2) -> 584.23
A9: 1.2 | B9: LOC-OBR-005 | C9: LOCAÇÃO DA OBRA (GABARITO) | D9: M2 | E9: ='memória de cálculo'!I4 -> 128.6625 | F9: 6 | G9: =ROUND(F9*H$5+F9,2) -> 7.25 | H9: =ROUND(G9*E9,2) -> 932.8
E10: TOTAL | H10: =SUM(H8:H9) -> 1517.03
A11: 2 | C11: MOVIMENTO DE TERRA
A12: 2.1 | B12: TER-ESC-035 | C12: ESCAVAÇÃO MANUAL DE VALAS H <= 1,50 M | D12: M3 | E12: ='memória de cálculo'!I6 -> 18.165 | F12: 44.2 | G12: =ROUND(F12*H$5+F12,2) -> 53.44 | H12: =ROUND(G12*E12,2) -> 970.74
A13: 2.2 | B13: TER-REG-005 | C13: REGULARIZAÇÃO E COMPACTAÇÃO DE TERRENO MANUAL, COM SOQUETE | D13: M2 | E13: ='memória de cálculo'!I7 -> 28.44 | F13: 6.9 | G13: =ROUND(F13*H$5+F13,2) -> 8.34 | H13: =ROUND(G13*E13,2) -> 237.19
A14: 2.3 | B14: TER-REA-005 | C14: REATERRO MANUAL DE VALA | D14: =D15 -> M3 | E14: ='memória de cálculo'!I8 -> 12.388125 | F14: 44.2 | G14: =ROUND(F14*H$5+F14,2) -> 53.44 | H14: =ROUND(G14*E14,2) -> 662.02
A15: 2.4 | B15: TER-ATE-010 | C15: ATERRO COMPACTADO COM PLACA VIBRATÓRIA | D15: M3 | E15: ='memória de cálculo'!I9 -> 16.652 | F15: 30.8 | G15: =ROUND(F15*H$5+F15,2) -> 37.24 | H15: =ROUND(G15*E15,2) -> 620.12
E16: TOTAL | H16: =SUM(H11:H15) -> 2490.07
A17: 3 | C17: FUNDAÇÕES
A18: 3.1 | B18: FUN-LAS-005 | C18: LASTRO DE CONCRETO MAGRO, INCLUSIVE TRANSPORTE, LANÇAMENTO E ADENSAMENTO | D18: =D15 -> M3 | E18: ='memória de cálculo'!I11 -> 1.422 | F18: 322.47 | G18: =ROUND(F18*H$5+F18,2) -> 389.87 | H18: =ROUND(G18*E18,2) -> 554.4
A19: 3.2 | B19: FUN-FOR-005 | C19: FORMA E DESFORMA EM TÁBUAS DE PINHO (3X) | D19: M2 | E19: ='memória de cálculo'!I12 -> 60.75 | F19: 38.15 | G19: =ROUND(F19*H$5+F19,2) -> 46.12 | H19: =ROUND(G19*E19,2) -> 2801.79
A20: 3.3 | B20: =B27 -> ARM-AÇO-020 | C20: =C27 -> CORTE, DOBRA E ARMAÇÃO DE AÇO CA-50/60 | D20: KG | E20: ='memória de cálculo'!I13 -> 346.8 | F20: 7.2 | G20: =ROUND(F20*H$5+F20,2) -> 8.7 | H20: =ROUND(G20*E20,2) -> 3017.16
A21: 3.4 | B21: ED-8486 | C21: CONCRETO ESTRUTURAL, PREPARADO EM OBRA COM BETONEIRA, CONTROLE "A", COM FCK 20 MPA ,BRITA Nº (1E2), CONSISTÊNCIA PARA VIBRAÇÃO (FABRICAÇÃO) | D21: M3 | E21: ='memória de cálculo'!I14 -> 5.776875 | F21: 314.18 | G21: =ROUND(F21*H$5+F21,2) -> 379.84 | H21: =ROUND(G21*E21,2) -> 2194.29
A22: 3.5 | B22: ED-8504 | C22: LANÇAMENTO DE CONCRETO EM ESTRUTURA, INCLUSIVE TRANSPORTE ATÉ O LOCAL DE APLICAÇÃO, EXCLUSIVE APLICAÇÃO | D22: M3 | E22: ='memória de cálculo'!I15 -> 5.776875 | F22: 65.7 | G22: =ROUND(F22*H$5+F22,2) -> 79.43 | H22: =ROUND(G22*E22,2) -> 458.86
A23: 3.6 | B23: IMP-PIN-005 | C23: PINTURA COM EMULSÃO ASFÁLTICA, DUAS (2) DEMÃOS | D23: M2 | E23: ='memória de cálculo'!I16 -> 31.95 | F23: 18.2 | G23: =ROUND(F23*H$5+F23,2) -> 22 | H23: =ROUND(G23*E23,2) -> 702.9
E24: TOTAL | H24: =SUM(H18:H23) -> 9729.4
A25: 4 | C25: ESTRUTURA
A26: 4.1 | B26: =B19 -> FUN-FOR-005 | C26: =C19 -> FORMA E DESFORMA EM TÁBUAS DE PINHO (3X) | D26: M2 | E26: ='memória de cálculo'!I18 -> 76.212 | F26: =+F19 -> 38.15 | G26: =ROUND(F26*H$5+F26,2) -> 46.12 | H26: =ROUND(G26*E26,2) -> 3514.9
A27: 4.2 | B27: ARM-AÇO-020 | C27: CORTE, DOBRA E ARMAÇÃO DE AÇO CA-50/60 | D27: KG | E27: ='memória de cálculo'!I19 -> 494.4 | F27: 7.2 | G27: =ROUND(F27*H$5+F27,2) -> 8.7 | H27: =ROUND(G27*E27,2) -> 4301.28
A28: 4.3 | B28: =B21 -> ED-8486 | C28: =C21 -> CONCRETO ESTRUTURAL, PREPARADO EM OBRA COM BETONEIRA, CONTROLE "A", COM FCK 20 MPA ,BRITA Nº (1E2), CONSISTÊNCIA PARA VIBRAÇÃO (FABRICAÇÃO) | D28: M3 | E28: ='memória de cálculo'!I20 -> 6.1785 | F28: =F21 -> 314.18 | G28: =ROUND(F28*H$5+F28,2) -> 379.84 | H28: =ROUND(G28*E28,2) -> 2346.84
A29: 4.4 | B29: =B22 -> ED-8504 | C29: =C22 -> LANÇAMENTO DE CONCRETO EM ESTRUTURA, INCLUSIVE TRANSPORTE ATÉ O LOCAL DE APLICAÇÃO, EXCLUSIVE APLICAÇÃO | D29: M3 | E29: ='memória de cálculo'!I21 -> 6.1785 | F29: =F22 -> 65.7 | G29: =ROUND(F29*H$5+F29,2) -> 79.43 | H29: =ROUND(G29*E29,2) -> 490.76
A30: 4.5 | C30: VERGA 10X10CM EM CONCRETO PRÉ-MOLDADO FCK=20MPA (PREPARO COM BETONEIRA) AÇO CA60, BITOLA FINA, INCLUSIVE FORMAS TABUA 3A. | D30: M | E30: ='memória de cálculo'!I22 -> 7.8 | F30: 20.2 | G30: =ROUND(F30*H$5+F30,2) -> 24.42 | H30: =ROUND(G30*E30,2) -> 190.48
A31: 4.6 | B31: LAJ-REV-005 | C31: LAJE PRÉ-MOLDADA, A REVESTIR, INCLUSIVE CAPEAMENTO E=4CM, SC = 100 KG/M2, L = 3,00 M | D31: M2 | E31: ='memória de cálculo'!I23 -> 91.74 | F31: 68.4 | G31: =ROUND(F31*H$5+F31,2) -> 82.7 | H31: =ROUND(G31*E31,2) -> 7586.9
E32: =E24 -> TOTAL | H32: =SUM(H26:H31) -> 18431.16
A33: 5 | C33: COBERTURA
A34: 5.1 | B34: EST-MET-035 | C34: FORNECIMENTO, FABRICAÇÃO, TRANSPORTE E MONTAGEM DE ESTRUTURA METÁLICA PARA TELHADO SOBRE LAJE PARA TELHAS METÁLICAS, INCLUSIVE PINTURA PRIMER | D34: M2 | E34: ='memória de cálculo'!I25 -> 85.65 | F34: 39.74 | G34: =ROUND(F34*H$5+F34,2) -> 48.05 | H34: =ROUND(G34*E34,2) -> 4115.48
A35: 5.2 | B35: COB-TEL-045 | C35: COBERTURA EM TELHA METÁLICA GALVANIZADA TRAPEZOIDAL, TIPO SIMPLES, ESP. 0,50MM, ACABAMENTO NATURAL, INCLUSIVE ACESSÓRIOS PARA FIXAÇÃO, FORNECIMENTO E INSTALAÇÃO | D35: M2 | E35: ='memória de cálculo'!I26 -> 85.65 | F35: 39.74 | G35: =ROUND(F35*H$5+F35,2) -> 48.05 | H35: =ROUND(G35*E35,2) -> 4115.48
A36: 5.3 | B36: COB-CUM-015 | C36: COLOCAÇÃO DE CUMEEIRA GALVANIZADA TRAPEZOIDAL E=0,50MM, SIMPLES | D36: M | E36: ='memória de cálculo'!I27 -> 9.1 | F36: 28.5 | G36: =ROUND(F36*H$5+F36,2) -> 34.46 | H36: =ROUND(G36*E36,2) -> 313.59
A37: 5.4 | B37: PLU-RUF-005 | C37: RUFO E CONTRA-RUFO DE CHAPA GALVANIZADA Nº.24, DESENVOLVIMENTO = 15 CM | D37: M | E37: ='memória de cálculo'!I28 -> 50.47 | F37: 22.5 | G37: =ROUND(F37*H$5+F37,2) -> 27.2 | H37: =ROUND(G37*E37,2) -> 1372.78
A38: 5.5 | B38: PLU-CAL-075 | C38: CALHA DE CHAPA GALVANIZADA Nº. 26 GSG, DESENVOLVIMENTO= 50 CM | D38: M | E38: ='memória de cálculo'!I29 -> 32.1 | F38: 41.84 | G38: =ROUND(F38*H$5+F38,2) -> 50.58 | H38: =ROUND(G38*E38,2) -> 1623.62
A39: 5.6 | B39: PLU-CHA-005 | C39: CHAPIM METÁLICO, COM PINGADEIRA, CHAPA GALVANIZADA Nº 24, DESENVOLVIMENTO = 35 CM | D39: M | E39: ='memória de cálculo'!I30 -> 50.47 | F39: 33.2 | G39: =ROUND(F39*H$5+F39,2) -> 40.14 | H39: =ROUND(G39*E39,2) -> 2025.87
A40: 5.7 | B40: PLU-CON-006 | C40: CONDUTOR DE AP DO TELHADO EM TUBO PVC ESGOTO, INCLUSIVE CONEXÕES E SUPORTES, 75 MM | D40: M | E40: ='memória de cálculo'!I31 -> 12 | F40: 20.2 | G40: =ROUND(F40*H$5+F40,2) -> 24.42 | H40: =ROUND(G40*E40,2) -> 293.04
...

Sheet memória de cálculo
A1: MEMÓRIA DE CÁLCULO
A2: ='PLANILHA orçamentária'!C7 -> SERVIÇOS PRELIMINARES
A3: ='PLANILHA orçamentária'!C8 -> FORNECIMENTO E COLOCAÇÃO DE PLACA DE OBRA EM CHAPA GALVANIZADA (2,00 X 1,00 M) - EM CHAPA GALVANIZADA 0,26 AFIXADAS COM REBITES 540 E PARAFUSOS 3/8, EM ESTRUTURA METÁLICA VIGA U 2" ENRIJECIDA COM METALON 20X20, SUPORTE EM EUCALIPTO AUTOCLAVADO PINTADAS | D3: ='PLANILHA orçamentária'!D8 -> Und | E3: 1*1 | I3: 1
A4: ='[1]Planilia Atualizada'!D7 -> LOCACAO CONVENCIONAL DE OBRA, ATRAVÉS DE GABARITO DE TABUAS CORRIDAS PONTALETADAS A CADA 1,50M, SEM REAPROVEITAMENTO | D4: ='PLANILHA orçamentária'!D9 -> M2 | E4: 10,95*11,75 | I4: =10.95*11.75 -> 128.6625
A5: ='PLANILHA orçamentária'!C11 -> MOVIMENTO DE TERRA
A6: ='PLANILHA orçamentária'!C12 -> ESCAVAÇÃO MANUAL DE VALAS H <= 1,50 M | D6: ='PLANILHA orçamentária'!D12 -> M3 | E6: (0,7*0,6)*1,5*17+71*0,3*0,35 | I6: =+(0.7*0.6)*1.5*17+71*0.3*0.35 -> 18.165
A7: ='PLANILHA orçamentária'!C13 -> REGULARIZAÇÃO E COMPACTAÇÃO DE TERRENO MANUAL, COM SOQUETE | D7: ='PLANILHA orçamentária'!D13 -> M2 | E7: (0,7*0,6)*17+71*0,3 | I7: =(0.7*0.6)*17+71*0.3 -> 28.44
A8: ='PLANILHA orçamentária'!C14 -> REATERRO MANUAL DE VALA | D8: ='PLANILHA orçamentária'!D14 -> M3 | E8: (0,7*0,6)*1,5*17+71*0,3*0,35) - (0,7*0,6)*0,25*17+(0,25*0,15)*1,25*17+71*0,15*0,35) | I8: ='PLANILHA orçamentária'!E12-'PLANILHA orçamentária'!E21 -> 12.388125
A9: ='PLANILHA orçamentária'!C15 -> ATERRO COMPACTADO COM PLACA VIBRATÓRIA | D9: ='PLANILHA orçamentária'!D15 -> M3 | E9: (7,5+1,3+4,62+2,69+1,56+32,03+33,56)*0,2 | I9: =(7.5+1.3+4.62+2.69+1.56+32.03+33.56)*0.2 -> 16.652
A10: ='PLANILHA orçamentária'!C17 -> FUNDAÇÕES
A11: ='PLANILHA orçamentária'!C18 -> LASTRO DE CONCRETO MAGRO, INCLUSIVE TRANSPORTE, LANÇAMENTO E ADENSAMENTO | D11: ='PLANILHA orçamentária'!D18 -> M3 | E11: (0,7*0,6)*17+71*0,3)*0,05 | I11: =((0.7*0.6)*17+71*0.3)*0.05 -> 1.422
A12: ='PLANILHA orçamentária'!C19 -> FORMA E DESFORMA EM TÁBUAS DE PINHO (3X) | D12: ='PLANILHA orçamentária'!D19 -> M2 | E12: (0,7*2+0,6*2)*0,25*17+71*0,35*2 | I12: =+(0.7*2+0.6*2)*0.25*17+71*0.35*2 -> 60.75
A13: ='PLANILHA orçamentária'!C20 -> CORTE, DOBRA E ARMAÇÃO DE AÇO CA-50/60 | D13: ='PLANILHA orçamentária'!D20 -> KG | E13: 5,78*60 | I13: =5.78*60 -> 346.8
A14: ='PLANILHA orçamentária'!C21 -> CONCRETO ESTRUTURAL, PREPARADO EM OBRA COM BETONEIRA, CONTROLE "A", COM FCK 20 MPA ,BRITA Nº (1E2), CONSISTÊNCIA PARA VIBRAÇÃO (FABRICAÇÃO) | D14: ='PLANILHA orçamentária'!D21 -> M3 | E14: (0,7*0,6)*0,25*17+(0,25*0,15)*1,25*17+71*0,15*0,3 | I14: =+(0.7*0.6)*0.25*17+(0.25*0.15)*1.25*17+71*0.15*0.3 -> 5.776875
A15: ='PLANILHA orçamentária'!C22 -> LANÇAMENTO DE CONCRETO EM ESTRUTURA, INCLUSIVE TRANSPORTE ATÉ O LOCAL DE APLICAÇÃO, EXCLUSIVE APLICAÇÃO | D15: ='PLANILHA orçamentária'!D22 -> M3 | E15: (0,7*0,6)*0,25*17+(0,25*0,15)*1,25*17+71*0,15*0,3 | I15: =+(0.7*0.6)*0.25*17+(0.25*0.15)*1.25*17+71*0.15*0.3 -> 5.776875
A16: ='PLANILHA orçamentária'!C23 -> PINTURA COM EMULSÃO ASFÁLTICA, DUAS (2) DEMÃOS | D16: ='PLANILHA orçamentária'!D23 -> M2 | E16: 71*0,15*3 | I16: =71*0.15*3 -> 31.95
A17: ='PLANILHA orçamentária'!C25 -> ESTRUTURA
A18: ='PLANILHA orçamentária'!C26 -> FORMA E DESFORMA EM TÁBUAS DE PINHO (3X) | D18: ='PLANILHA orçamentária'!D26 -> M2 | E18: (0,25*2)*4,5*14+3,14*0,2*2*3*3+55,68*2*0,3 | I18: =(0.25*2)*4.5*14+3.14*0.2*2*3*3+55.68*2*0.3 -> 76.212
A19: ='PLANILHA orçamentária'!C27 -> CORTE, DOBRA E ARMAÇÃO DE AÇO CA-50/60 | D19: ='PLANILHA orçamentária'!D27 -> KG | E19: 6,18*80 | I19: =6.18*80 -> 494.4
A20: ='PLANILHA orçamentária'!C28 -> CONCRETO ESTRUTURAL, PREPARADO EM OBRA COM BETONEIRA, CONTROLE "A", COM FCK 20 MPA ,BRITA Nº (1E2), CONSISTÊNCIA PARA VIBRAÇÃO (FABRICAÇÃO) | D20: ='PLANILHA orçamentária'!D28 -> M3 | E20: (0,25*0,15)*4,5*14+3,14*0,2*0,2*3*3+59,68*0,15*0,3 | I20: =(0.25*0.15)*4.5*14+3.14*0.2*0.2*3*3+59.68*0.15*0.3 -> 6.1785
A21: ='PLANILHA orçamentária'!C29 -> LANÇAMENTO DE CONCRETO EM ESTRUTURA, INCLUSIVE TRANSPORTE ATÉ O LOCAL DE APLICAÇÃO, EXCLUSIVE APLICAÇÃO | D21: ='PLANILHA orçamentária'!D29 -> M3 | E21: (0,25*0,15)*4,5*14+3,14*0,2*0,2*3*3+59,68*0,15*0,3 | I21: =(0.25*0.15)*4.5*14+3.14*0.2*0.2*3*3+59.68*0.15*0.3 -> 6.1785
A22: ='PLANILHA orçamentária'!C30 -> VERGA 10X10CM EM CONCRETO PRÉ-MOLDADO FCK=20MPA (PREPARO COM BETONEIRA) AÇO CA60, BITOLA FINA, INCLUSIVE FORMAS TABUA 3A. | D22: ='PLANILHA orçamentária'!D30 -> M | E22: 7.8 | I22: 7.8
A23: ='PLANILHA orçamentária'!C31 -> LAJE PRÉ-MOLDADA, A REVESTIR, INCLUSIVE CAPEAMENTO E=4CM, SC = 100 KG/M2, L = 3,00 M | D23: ='PLANILHA orçamentária'!D31 -> M2 | E23: 91.74 | I23: 91.74
A24: ='PLANILHA orçamentária'!C33 -> COBERTURA
A25: ='PLANILHA orçamentária'!C34 -> FORNECIMENTO, FABRICAÇÃO, TRANSPORTE E MONTAGEM DE ESTRUTURA METÁLICA PARA TELHADO SOBRE LAJE PARA TELHAS METÁLICAS, INCLUSIVE PINTURA PRIMER | D25: ='PLANILHA orçamentária'!D34 -> M2 | E25: 85.65 | I25: 85.65
A26: ='PLANILHA orçamentária'!C35 -> COBERTURA EM TELHA METÁLICA GALVANIZADA TRAPEZOIDAL, TIPO SIMPLES, ESP. 0,50MM, ACABAMENTO NATURAL, INCLUSIVE ACESSÓRIOS PARA FIXAÇÃO, FORNECIMENTO E INSTALAÇÃO | D26: ='PLANILHA orçamentária'!D35 -> M2 | E26: 85.65 | I26: 85.65
A27: ='PLANILHA orçamentária'!C36 -> COLOCAÇÃO DE CUMEEIRA GALVANIZADA TRAPEZOIDAL E=0,50MM, SIMPLES | D27: ='PLANILHA orçamentária'!D36 -> M | E27: 9.1 | I27: 9.1
A28: ='PLANILHA orçamentária'!C37 -> RUFO E CONTRA-RUFO DE CHAPA GALVANIZADA Nº.24, DESENVOLVIMENTO = 15 CM | D28: ='PLANILHA orçamentária'!D37 -> M | E28: 41,12+9,35 | I28: =41.12+9.35 -> 50.47
A29: ='PLANILHA orçamentária'!C38 -> CALHA DE CHAPA GALVANIZADA Nº. 26 GSG, DESENVOLVIMENTO= 50 CM | D29: ='PLANILHA orçamentária'!D38 -> M | E29: 9,05*2+6+8 | I29: =9.05*2+6+8 -> 32.1
A30: ='PLANILHA orçamentária'!C39 -> CHAPIM METÁLICO, COM PINGADEIRA, CHAPA GALVANIZADA Nº 24, DESENVOLVIMENTO = 35 CM | D30: ='PLANILHA orçamentária'!D39 -> M | E30: =E28 -> 41,12+9,35 | I30: =I28 -> 50.47
A31: ='PLANILHA orçamentária'!C40 -> CONDUTOR DE AP DO TELHADO EM TUBO PVC ESGOTO, INCLUSIVE CONEXÕES E SUPORTES, 75 MM | D31: ='PLANILHA orçamentária'!D40 -> M | E31: 3*4 | I31: =3*4 -> 12
A32: ='[1]Planilia Atualizada'!D37 -> PAREDES E PAINEIS
A33: ='PLANILHA orçamentária'!C43 -> ALVENARIA DE VEDAÇÃO COM BLOCO DE CONCRETO, ESP. 14CM, PARA REVESTIMENTO, INCLUSIVE ARGAMASSA PARA ASSENTAMENTO | D33: ='PLANILHA orçamentária'!D43 -> M2 | E33: 71*3+35*1,2 | I33: =71*3+35*1.2 -> 255
A34: ='PLANILHA orçamentária'!C44 -> SOLEIRA DE GRANITO CINZA ANDORINHA E = 2 CM | D34: ='PLANILHA orçamentária'!D44 -> M2 | E34: (0,7*2+0,8*2+3,2)*0,15 | I34: =+(0.7*2+0.8*2+3.2)*0.15 -> 0.93
A35: ='PLANILHA orçamentária'!C45 -> PEITORIL DE GRANITO CINZA ANDORINHA E = 2 CM | D35: ='PLANILHA orçamentária'!D45 -> M2 | E35: (0,7*8+1,5*2)*0,18 | I35: =(0.7*8+1.5*2)*0.18 -> 1.548
A36: ='PLANILHA orçamentária'!C47 -> ESQUADRIAS E FERRAGENS
A37: ='PLANILHA orçamentária'!C48 -> FORNECIMENTO E ASSENTAMENTO DE JANELA DE ALUMÍNIO, LINHA SUPREMA ACABAMENTO ANODIZADO, TIPO BASCULA COM CONTRAMARCO, INCLUSIVE FORNECIMENTO DE VIDRO LISO DE 4MM, FERRAGENS E ACESSÓRIOS | D37: ='PLANILHA orçamentária'!D48 -> M2 | E37: 0,7*2*6+1,5*2+0,7*0,7*2 | I37: =0.7*2*6+1.5*2+0.7*0.7*2 -> 12.38
A38: ='PLANILHA orçamentária'!C49 -> FORNECIMENTO E ASSENTAMENTO DE PORTA DE ALUMÍNIO, LINHA SUPREMA ACABAMENTO ANODIZADO, TIPO CORRER, COM DUAS FOLHAS, INCLUSIVE FORNECIMENTO DE VIDRO LISO DE 4MM, FERRAGENS ACESSÓRIOS | D38: ='PLANILHA orçamentária'!D49 -> M2 | E38: 3,2*2,5 | I38: =3.2*2.5 -> 8
A39: ='PLANILHA orçamentária'!C50 -> PORTA DE ABRIR, MADEIRA DE LEI PRANCHETA PARA PINTURA COMPLETA 80 X 210 CM,COM FERRAGENS EM FERRO LATONADO | D39: ='PLANILHA orçamentária'!D50 -> UN | E39: 1*1 | I39: =1*1 -> 1
A40: ='PLANILHA orçamentária'!C51 -> PORTA METÁLICA 70 X 210 CM , INCLUINDO FECHADURA TIPO EXTERNA E FERRAGENS, CONFORME DETALHE PADRÃO ESCOLAR 4/98 VERSÃO 2005 | D40: ='PLANILHA orçamentária'!D51 -> UN | E40: 1*2 | I40: =1*2 -> 2
...

Sheet  CRNOGRAMA 1
A1: CRONOGRAMA FÍSICO FINANCEIRO
A3: =#REF! -> #REF! | B3: =+'PLANILHA orçamentária'!B4:E4 -> CONSTRUÇÃO DE CAPELA VELÓRIO COM ÁREA CONSTRUÍDA DE 91,74M2 | G3: PERÍODO | Q3: data
A4: =#REF! -> #REF! | B4: =+'PLANILHA orçamentária'!B5:E5 -> RUA PACÍFICO SANTO DE ALMEIDA, S/Nº - CENTRO - NOVORIZONTE/MG | Q4: ='PLANILHA orçamentária'!H4 -> 44007
A5: ITEM | B5: DISCRIMINAÇÃO DOS SERVIÇOS | F5: VALOR | G5: MÊS 01 | H5: MÊS 02 | I5: MÊS 03 | J5: MÊS 04 | K5: MÊS 05 | L5: MÊS 06 | M5: MÊS 07 | N5: MÊS 08 | O5: MÊS 09 | P5: MÊS 10 | Q5: SUB-TOTAL
A6: =+#REF! -> #REF! | B6: ='PLANILHA orçamentária'!C7 -> SERVIÇOS PRELIMINARES | F6: ='PLANILHA orçamentária'!H10 -> 1517.03 | G6: =$F6*G7 -> 1517.03 | H6: =$F6*H7 -> 0 | I6: =$F6*I7 -> 0 | J6: =$F6*J7 -> 0 | K6: =$F6*K7 -> 0 | L6: =$F6*L7 -> 0 | M6: =$F6*M7 -> 0 | N6: =$F6*N7 -> 0 | ... P6: =$F6*P7 -> 0 | Q6: =IF(Q7=100%,F6,0) -> 1517.03
G7: 1 | Q7: =SUM(G7:P7) -> 1
A8: 2 | B8: ='PLANILHA orçamentária'!C11 -> MOVIMENTO DE TERRA | F8: ='PLANILHA orçamentária'!H16 -> 2490.07 | G8: =$F8*G9 -> 2490.07 | H8: =$F8*H9 -> 0 | I8: =$F8*I9 -> 0 | J8: =$F8*J9 -> 0 | K8: =$F8*K9 -> 0 | L8: =$F8*L9 -> 0 | M8: =$F8*M9 -> 0 | N8: =$F8*N9 -> 0 | ... P8: =$F8*P9 -> 0 | Q8: =IF(Q9=100%,F8,0) -> 2490.07
G9: 1 | Q9: =SUM(G9:P9) -> 1
A10: 3 | B10: ='PLANILHA orçamentária'!C17 -> FUNDAÇÕES | F10: ='PLANILHA orçamentária'!H24 -> 9729.4 | G10: =$F10*G11 -> 9729.4 | H10: =$F10*H11 -> 0 | I10: =$F10*I11 -> 0 | J10: =$F10*J11 -> 0 | K10: =$F10*K11 -> 0 | L10: =$F10*L11 -> 0 | M10: =$F10*M11 -> 0 | N10: =$F10*N11 -> 0 | ... P10: =$F10*P11 -> 0 | Q10: =IF(Q11=100%,F10,0) -> 9729.4
G11: 1 | Q11: =SUM(G11:P11) -> 1
A12: 4 | B12: ='PLANILHA orçamentária'!C25 -> ESTRUTURA | F12: ='PLANILHA orçamentária'!H32 -> 18431.16 | G12: =$F12*G13 -> 0 | H12: =$F12*H13 -> 18431.16 | I12: =$F12*I13 -> 0 | J12: =$F12*J13 -> 0 | K12: =$F12*K13 -> 0 | L12: =$F12*L13 -> 0 | M12: =$F12*M13 -> 0 | N12: =$F12*N13 -> 0 | ... P12: =$F12*P13 -> 0 | Q12: =IF(Q13=100%,F12,0) -> 18431.16
H13: 1 | Q13: =SUM(G13:P13) -> 1
A14: 5 | B14: ='PLANILHA orçamentária'!C33 -> COBERTURA | F14: ='PLANILHA orçamentária'!H41 -> 13859.86 | G14: =$F14*G15 -> 0 | H14: =$F14*H15 -> 6929.93 | I14: =$F14*I15 -> 6929.93 | J14: =$F14*J15 -> 0 | K14: =$F14*K15 -> 0 | L14: =$F14*L15 -> 0 | M14: =$F14*M15 -> 0 | N14: =$F14*N15 -> 0 | ... P14: =$F14*P15 -> 0 | Q14: =IF(Q15=100%,F14,0) -> 13859.86
H15: 0.5 | I15: 0.5 | Q15: =SUM(G15:P15) -> 1
A16: 6 | B16: ='PLANILHA orçamentária'!C42 -> PAREDES E PAINEIS | F16: =+'PLANILHA orçamentária'!H46 -> 11508.42 | G16: =$F16*G17 -> 5754.21 | H16: =$F16*H17 -> 5754.21 | I16: =$F16*I17 -> 0 | J16: =$F16*J17 -> 0 | K16: =$F16*K17 -> 0 | L16: =$F16*L17 -> 0 | M16: =$F16*M17 -> 0 | N16: =$F16*N17 -> 0 | ... P16: =$F16*P17 -> 0 | Q16: =IF(Q17=100%,F16,0) -> 11508.42
G17: 0.5 | H17: 0.5 | Q17: =SUM(G17:P17) -> 1
A18: 7 | B18: ='PLANILHA orçamentária'!C47 -> ESQUADRIAS E FERRAGENS | F18: ='PLANILHA orçamentária'!H56 -> 16232.58 | H18: =$F18*H19 -> 0 | I18: =$F18*I19 -> 11362.806 | J18: =$F18*J19 -> 4869.774 | K18: =$F18*K19 -> 0 | L18: =$F18*L19 -> 0 | M18: =$F18*M19 -> 0 | N18: =$F18*N19 -> 0 | O18: =$F18*O19 -> 0 | P18: =$F18*P19 -> 0 | Q18: =IF(Q19=100%,F18,0) -> 16232.58
I19: 0.7 | J19: 0.3 | Q19: =SUM(G19:P19) -> 1
A20: 8 | B20: ='PLANILHA orçamentária'!C57 -> INSTALAÇÕES HIDROSSANITÁRIAS | F20: ='PLANILHA orçamentária'!H80 -> 7724.68 | G20: =$F20*G21 -> 1931.17 | H20: =$F20*H21 -> 1931.17 | I20: =$F20*I21 -> 1544.936 | J20: =$F20*J21 -> 2317.404 | K20: =$F20*K21 -> 0 | L20: =$F20*L21 -> 0 | M20: =$F20*M21 -> 0 | N20: =$F20*N21 -> 0 | ... P20: =$F20*P21 -> 0 | Q20: =IF(Q21=100%,F20,0) -> 7724.68
G21: 0.25 | H21: 0.25 | I21: 0.2 | J21: 0.3 | Q21: =SUM(G21:P21) -> 1
A22: 9 | B22: ='PLANILHA orçamentária'!C81 -> INSTALAÇÕES ELÉTRICAS | F22: ='PLANILHA orçamentária'!H94 -> 15038.36 | G22: =$F22*G23 -> 1503.836 | H22: =$F22*H23 -> 1503.836 | I22: =$F22*I23 -> 6015.344 | J22: =$F22*J23 -> 6015.344 | K22: =$F22*K23 -> 0 | L22: =$F22*L23 -> 0 | M22: =$F22*M23 -> 0 | N22: =$F22*N23 -> 0 | ... P22: =$F22*P23 -> 0 | Q22: =IF(Q23=100%,F22,0) -> 15038.36
G23: 0.1 | H23: 0.1 | I23: 0.4 | J23: 0.4 | Q23: =SUM(G23:P23) -> 1
A24: 10 | B24: ='PLANILHA orçamentária'!C95 -> REVESTIMENTOS | F24: ='PLANILHA orçamentária'!H99 -> 21105.55 | G24: =$F24*G25 -> 0 | H24: =$F24*H25 -> 4221.11 | I24: =$F24*I25 -> 10552.775 | J24: =$F24*J25 -> 6331.665 | K24: =$F24*K25 -> 0 | L24: =$F24*L25 -> 0 | M24: =$F24*M25 -> 0 | N24: =$F24*N25 -> 0 | ... P24: =$F24*P25 -> 0 | Q24: =IF(Q25=100%,F24,0) -> 21105.55
H25: 0.2 | I25: 0.5 | J25: 0.3 | Q25: =SUM(G25:P25) -> 1
A26: 11 | B26: ='PLANILHA orçamentária'!C100 -> PISOS | F26: ='PLANILHA orçamentária'!H105 -> 8698.57 | G26: =$F26*G27 -> 1739.714 | H26: =$F26*H27 -> 2609.571 | I26: =$F26*I27 -> 2609.571 | J26: =$F26*J27 -> 1739.714 | K26: =$F26*K27 -> 0 | L26: =$F26*L27 -> 0 | M26: =$F26*M27 -> 0 | N26: =$F26*N27 -> 0 | ... P26: =$F26*P27 -> 0 | Q26: =IF(Q27=100%,F26,0) -> 8698.57
G27: 0.2 | H27: 0.3 | I27: 0.3 | J27: 0.2 | Q27: =SUM(G27:P27) -> 1
A28: 12 | B28: ='PLANILHA orçamentária'!C106 -> PINTURAS | F28: ='PLANILHA orçamentária'!H110 -> 7817.01 | G28: =$F28*G29 -> 0 | H28: =$F28*H29 -> 0 | I28: =$F28*I29 -> 0 | J28: =$F28*J29 -> 7817.01 | K28: =$F28*K29 -> 0 | L28: =$F28*L29 -> 0 | M28: =$F28*M29 -> 0 | N28: =$F28*N29 -> 0 | ... P28: =$F28*P29 -> 0 | Q28: =IF(Q29=100%,F28,0) -> 7817.01
J29: 1 | Q29: =SUM(G29:P29) -> 1
A30: 13 | B30: ='PLANILHA orçamentária'!C111 -> SISTEMA DE PROTEÇÃO CONTRA INCÊNDIO | F30: ='PLANILHA orçamentária'!H115 -> 358.27 | G30: =$F30*G31 -> 0 | H30: =$F30*H31 -> 0 | I30: =$F30*I31 -> 0 | J30: =$F30*J31 -> 358.27 | K30: =$F30*K31 -> 0 | L30: =$F30*L31 -> 0 | M30: =$F30*M31 -> 0 | N30: =$F30*N31 -> 0 | ... P30: =$F30*P31 -> 0 | Q30: =IF(Q31=100%,F30,0) -> 358.27
J31: 1 | Q31: =SUM(G31:P31) -> 1
A32: 14 | B32: ='PLANILHA orçamentária'!C116 -> MURO EXTERNO | F32: ='PLANILHA orçamentária'!H121 -> 2961.51 | G32: =$F32*G33 -> 0 | H32: =$F32*H33 -> 0 | I32: =$F32*I33 -> 0 | J32: =$F32*J33 -> 2961.51 | K32: =$F32*K33 -> 0 | L32: =$F32*L33 -> 0 | M32: =$F32*M33 -> 0 | N32: =$F32*N33 -> 0 | ... P32: =$F32*P33 -> 0 | Q32: =IF(Q33=100%,F32,0) -> 2961.51
J33: 1 | Q33: =SUM(G33:P33) -> 1
A34: 15 | B34: ='PLANILHA orçamentária'!C122 -> SERVIÇOS COMPLEMENTARES | F34: ='PLANILHA orçamentária'!H124 -> 269.73 | G34: =$F34*G35 -> 0 | H34: =$F34*H35 -> 0 | I34: =$F34*I35 -> 0 | J34: =$F34*J35 -> 269.73 | K34: =$F34*K35 -> 0 | L34: =$F34*L35 -> 0 | M34: =$F34*M35 -> 0 | N34: =$F34*N35 -> 0 | ... P34: =$F34*P35 -> 0 | Q34: =IF(Q35=100%,F34,0) -> 269.73
J35: 1 | Q35: =SUM(G35:P35) -> 1
G36: =$F36*G37 -> 0 | H36: =$F36*H37 -> 0 | I36: =$F36*I37 -> 0 | P36: =$F36*P37 -> 0 | Q36: =IF(Q37=100%,F36,0) -> 0
P37: 6 | Q37: =SUM(G37:P37) -> 6
G38: =$F38*G39 -> 0 | H38: =$F38*H39 -> 0 | I38: =$F38*I39 -> 0 | P38: =$F38*P39 -> 0 | Q38: =IF(Q39=100%,F38,0) -> 0
P39: 7 | Q39: =SUM(G39:P39) -> 7
G40: =$F40*G41 -> 0 | H40: =$F40*H41 -> 0 | I40: =$F40*I41 -> 0 | P40: =$F40*P41 -> 0 | Q40: =IF(Q41=100%,F40,0) -> 0
P41: 8 | Q41: =SUM(G41:P41) -> 8
...
