Workbook

Sheet PLANILHA orçamentária
A1: PREFEITURA MUNICIPAL DE NOVORIZONTE
A2: ESTADO DE MINAS GERAIS
A3: PLANILHA ORÇAMENTÁRIA
A4: OBRA: | B4: CONSTRUÇÃO DE CAPELA VELÓRIO COM ÁREA CONSTRUÍDA DE 91,74M2 | G4: DATA: | H4: 44007
A5: LOCAL: | B5: RUA PACÍFICO SANTO DE ALMEIDA, S/Nº - CENTRO - NOVORIZONTE/MG | G5: BDI: | H5: 0.209
A6: Itens | B6: Ref. | C6: Descrição | D6: Und | E6: Quant | F6: P. unit. s/ BDI | G6: P. unit. c/ BDI | H6: Total
A7: 1 | C7: SERVIÇOS PRELIMINARES
A8: 1.1 | B8: IIO-PLA-005 | C8: FORNECIMENTO E COLOCAÇÃO DE PLACA DE OBRA EM CHAPA GALVANIZADA (2,00 X 1,00 M) - EM CHAPA GALVANIZADA 0,26 AFIXADAS COM REBITES 540 E PARAFUSOS 3/8, EM ESTRUTURA METÁLICA VIGA U 2" ENRIJECIDA COM METALON 20X20, SUPORTE EM EUCALIPTO AUTOCLAVADO PINTADAS | D8: Und | E8: ='memória de cálculo'!I3 -> 1 | F8: 483.23 | G8: =ROUND(F8*H$5+F8,2) -> 584.23 | H8: =ROUND(G8*E8,2) -> 584.23
A9: 1.2 | B9: LOC-OBR-005 | C9: LOCAÇÃO DA OBRA (GABARITO) | D9: M2 | E9: ='memória de cálculo'!I4 -> 128.6625 | F9: 6 | G9: =ROUND(F9*H$5+F9,2) -> 7.25 | H9: =ROUND(G9*E9,2) -> 932.8
E10: TOTAL | H10: =SUM(H8:H9) -> 1517.03
A11: 2 | C11: MOVIMENTO DE TERRA
A12: 2.1 | B12: TER-ESC-035 | C12: ESCAVAÇÃO MANUAL DE VALAS H <= 1,50 M | D12: M3 | E12: ='memória de cálculo'!I6 -> 18.165 | F12: 44.2 | G12: =ROUND(F12*H$5+F12,2) -> 53.44 | H12: =ROUND(G12*E12,2) -> 970.74
A13: 2.2 | B13: TER-REG-005 | C13: REGULARIZAÇÃO E COMPACTAÇÃO DE TERRENO MANUAL, COM SOQUETE | D13: M2 | E13: ='memória de cálculo'!I7 -> 28.44 | F13: 6.9 | G13: =ROUND(F13*H$5+F13,2) -> 8.34 | H13: =ROUND(G13*E13,2) -> 237.19
A14: 2.3 | B14: TER-REA-005 | C14: REATERRO MANUAL DE VALA | D14: =D15 -> M3 | E14: ='memória de cálculo'!I8 -> 12.388125 | F14: 44.2 | G14: =ROUND(F14*H$5+F14,2) -> 53.44 | H14: =ROUND(G14*E14,2) -> 662.02
A15: 2.4 | B15: TER-ATE-010 | C15: ATERRO COMPACTADO COM PLACA VIBRATÓRIA | D15: M3 | E15: ='memória de cálculo'!I9 -> 16.652 | F15: 30.8 | G15: =ROUND(F15*H$5+F15,2) -> 37.24 | H15: =ROUND(G15*E15,2) -> 620.12
E16: TOTAL | H16: =SUM(H11:H15) -> 2490.07
A17: 3 | C17: FUNDAÇÕES
A18: 3.1 | B18: FUN-LAS-005 | C18: LASTRO DE CONCRETO MAGRO, INCLUSIVE TRANSPORTE, LANÇAMENTO E ADENSAMENTO | D18: =D15 -> M3 | E18: ='memória de cálculo'!I11 -> 1.422 | F18: 322.47 | G18: =ROUND(F18*H$5+F18,2) -> 389.87 | H18: =ROUND(G18*E18,2) -> 554.4
A19: 3.2 | B19: FUN-FOR-005 | C19: FORMA E DESFORMA EM TÁBUAS DE PINHO (3X) | D19: M2 | E19: ='memória de cálculo'!I12 -> 60.75 | F19: 38.15 | G19: =ROUND(F19*H$5+F19,2) -> 46.12 | H19: =ROUND(G19*E19,2) -> 2801.79
A20: 3.3 | B20: =B27 -> ARM-AÇO-020 | C20: =C27 -> CORTE, DOBRA E ARMAÇÃO DE AÇO CA-50/60 | D20: KG | E20: ='memória de cálculo'!I13 -> 346.8 | F20: 7.2 | G20: =ROUND(F20*H$5+F20,2) -> 8.7 | H20: =ROUND(G20*E20,2) -> 3017.16
A21: 3.4 | B21: ED-8486 | C21: CONCRETO ESTRUTURAL, PREPARADO EM OBRA COM BETONEIRA, CONTROLE "A", COM FCK 20 MPA ,BRITA Nº (1E2), CONSISTÊNCIA PARA VIBRAÇÃO (FABRICAÇÃO) | D21: M3 | E21: ='memória de cálculo'!I14 -> 5.776875 | F21: 314.18 | G21: =ROUND(F21*H$5+F21,2) -> 379.84 | H21: =ROUND(G21*E21,2) -> 2194.29
A22: 3.5 | B22: ED-8504 | C22: LANÇAMENTO DE CONCRETO EM ESTRUTURA, INCLUSIVE TRANSPORTE ATÉ O LOCAL DE APLICAÇÃO, EXCLUSIVE APLICAÇÃO | D22: M3 | E22: ='memória de cálculo'!I15 -> 5.776875 | F22: 65.7 | G22: =ROUND(F22*H$5+F22,2) -> 79.43 | H22: =ROUND(G22*E22,2) -> 458.86
A23: 3.6 | B23: IMP-PIN-005 | C23: PINTURA COM EMULSÃO ASFÁLTICA, DUAS (2) DEMÃOS | D23: M2 | E23: ='memória de cálculo'!I16 -> 31.95 | F23: 18.2 | G23: =ROUND(F23*H$5+F23,2) -> 22 | H23: =ROUND(G23*E23,2) -> 702.9
E24: TOTAL | H24: =SUM(H18:H23) -> 9729.4
A25: 4 | C25: ESTRUTURA
A26: 4.1 | B26: =B19 -> FUN-FOR-005 | C26: =C19 -> FORMA E DESFORMA EM TÁBUAS DE PINHO (3X) | D26: M2 | E26: ='memória de cálculo'!I18 -> 76.212 | F26: =+F19 -> 38.15 | G26: =ROUND(F26*H$5+F26,2) -> 46.12 | H26: =ROUND(G26*E26,2) -> 3514.9
A27: 4.2 | B27: ARM-AÇO-020 | C27: CORTE, DOBRA E ARMAÇÃO DE AÇO CA-50/60 | D27: KG | E27: ='memória de cálculo'!I19 -> 494.4 | F27: 7.2 | G27: =ROUND(F27*H$5+F27,2) -> 8.7 | H27: =ROUND(G27*E27,2) -> 4301.28
A28: 4.3 | B28: =B21 -> ED-8486 | C28: =C21 -> CONCRETO ESTRUTURAL, PREPARADO EM OBRA COM BETONEIRA, CONTROLE "A", COM FCK 20 MPA ,BRITA Nº (1E2), CONSISTÊNCIA PARA VIBRAÇÃO (FABRICAÇÃO) | D28: M3 | E28: ='memória de cálculo'!I20 -> 6.1785 | F28: =F21 -> 314.18 | G28: =ROUND(F28*H$5+F28,2) -> 379.84 | H28: =ROUND(G28*E28,2) -> 2346.84
A29: 4.4 | B29: =B22 -> ED-8504 | C29: =C22 -> LANÇAMENTO DE CONCRETO EM ESTRUTURA, INCLUSIVE TRANSPORTE ATÉ O LOCAL DE APLICAÇÃO, EXCLUSIVE APLICAÇÃO | D29: M3 | E29: ='memória de cálculo'!I21 -> 6.1785 | F29: =F22 -> 65.7 | G29: =ROUND(F29*H$5+F29,2) -> 79.43 | H29: =ROUND(G29*E29,2) -> 490.76
A30: 4.5 | C30: VERGA 10X10CM EM CONCRETO PRÉ-MOLDADO FCK=20MPA (PREPARO COM BETONEIRA) AÇO CA60, BITOLA FINA, INCLUSIVE FORMAS TABUA 3A. | D30: M | E30: ='memória de cálculo'!I22 -> 7.8 | F30: 20.2 | G30: =ROUND(F30*H$5+F30,2) -> 24.42 | H30: =ROUND(G30*E30,2) -> 190.48
A31: 4.6 | B31: LAJ-REV-005 | C31: LAJE PRÉ-MOLDADA, A REVESTIR, INCLUSIVE CAPEAMENTO E=4CM, SC = 100 KG/M2, L = 3,00 M | D31: M2 | E31: ='memória de cálculo'!I23 -> 91.74 | F31: 68.4 | G31: =ROUND(F31*H$5+F31,2) -> 82.7 | H31: =ROUND(G31*E31,2) -> 7586.9
E32: =E24 -> TOTAL | H32: =SUM(H26:H31) -> 18431.16
A33: 5 | C33: COBERTURA
A34: 5.1 | B34: EST-MET-035 | C34: FORNECIMENTO, FABRICAÇÃO, TRANSPORTE E MONTAGEM DE ESTRUTURA METÁLICA PARA TELHADO SOBRE LAJE PARA TELHAS METÁLICAS, INCLUSIVE PINTURA PRIMER | D34: M2 | E34: ='memória de cálculo'!I25 -> 85.65 | F34: 39.74 | G34: =ROUND(F34*H$5+F34,2) -> 48.05 | H34: =ROUND(G34*E34,2) -> 4115.48
A35: 5.2 | B35: COB-TEL-045 | C35: COBERTURA EM TELHA METÁLICA GALVANIZADA TRAPEZOIDAL, TIPO SIMPLES, ESP. 0,50MM, ACABAMENTO NATURAL, INCLUSIVE ACESSÓRIOS PARA FIXAÇÃO, FORNECIMENTO E INSTALAÇÃO | D35: M2 | E35: ='memória de cálculo'!I26 -> 85.65 | F35: 39.74 | G35: =ROUND(F35*H$5+F35,2) -> 48.05 | H35: =ROUND(G35*E35,2) -> 4115.48
A36: 5.3 | B36: COB-CUM-015 | C36: COLOCAÇÃO DE CUMEEIRA GALVANIZADA TRAPEZOIDAL E=0,50MM, SIMPLES | D36: M | E36: ='memória de cálculo'!I27 -> 9.1 | F36: 28.5 | G36: =ROUND(F36*H$5+F36,2) -> 34.46 | H36: =ROUND(G36*E36,2) -> 313.59
A37: 5.4 | B37: PLU-RUF-005 | C37: RUFO E CONTRA-RUFO DE CHAPA GALVANIZADA Nº.24, DESENVOLVIMENTO = 15 CM | D37: M | E37: ='memória de cálculo'!I28 -> 50.47 | F37: 22.5 | G37: =ROUND(F37*H$5+F37,2) -> 27.2 | H37: =ROUND(G37*E37,2) -> 1372.78
A38: 5.5 | B38: PLU-CAL-075 | C38: CALHA DE CHAPA GALVANIZADA Nº. 26 GSG, DESENVOLVIMENTO= 50 CM | D38: M | E38: ='memória de cálculo'!I29 -> 32.1 | F38: 41.84 | G38: =ROUND(F38*H$5+F38,2) -> 50.58 | H38: =ROUND(G38*E38,2) -> 1623.62
A39: 5.6 | B39: PLU-CHA-005 | C39: CHAPIM METÁLICO, COM PINGADEIRA, CHAPA GALVANIZADA Nº 24, DESENVOLVIMENTO = 35 CM | D39: M | E39: ='memória de cálculo'!I30 -> 50.47 | F39: 33.2 | G39: =ROUND(F39*H$5+F39,2) -> 40.14 | H39: =ROUND(G39*E39,2) -> 2025.87
A40: 5.7 | B40: PLU-CON-006 | C40: CONDUTOR DE AP DO TELHADO EM TUBO PVC ESGOTO, INCLUSIVE CONEXÕES E SUPORTES, 75 MM | D40: M | E40: ='memória de cálculo'!I31 -> 12 | F40: 20.2 | G40: =ROUND(F40*H$5+F40,2) -> 24.42 | H40: =ROUND(G40*E40,2) -> 293.04
E41: =E32 -> TOTAL | H41: =SUM(H34:H40) -> 13859.86
A42: 6 | C42: PAREDES E PAINEIS
A43: 6.1 | B43: ALV-BLO-010 | C43: ALVENARIA DE VEDAÇÃO COM BLOCO DE CONCRETO, ESP. 14CM, PARA REVESTIMENTO, INCLUSIVE ARGAMASSA PARA ASSENTAMENTO | D43: M2 | E43: ='memória de cálculo'!I33 -> 255 | F43: 35.5 | G43: =ROUND(F43*H$5+F43,2) -> 42.92 | H43: =ROUND(G43*E43,2) -> 10944.6
A44: 6.3 | B44: SOL-GRA-005 | C44: SOLEIRA DE GRANITO CINZA ANDORINHA E = 2 CM | D44: =D43 -> M2 | E44: ='memória de cálculo'!I34 -> 0.93 | F44: =F45 -> 188.2 | G44: =ROUND(F44*H$5+F44,2) -> 227.53 | H44: =ROUND(G44*E44,2) -> 211.6
A45: 6.4 | B45: PEI-GRA-005 | C45: PEITORIL DE GRANITO CINZA ANDORINHA E = 2 CM | D45: =D43 -> M2 | E45: ='memória de cálculo'!I35 -> 1.548 | F45: 188.2 | G45: =ROUND(F45*H$5+F45,2) -> 227.53 | H45: =ROUND(G45*E45,2) -> 352.22
E46: TOTAL | H46: =SUM(H43:H45) -> 11508.42
A47: 7 | C47: ESQUADRIAS E FERRAGENS
A48: 7.1 | B48: SER-JAN-025 | C48: FORNECIMENTO E ASSENTAMENTO DE JANELA DE ALUMÍNIO, LINHA SUPREMA ACABAMENTO ANODIZADO, TIPO BASCULA COM CONTRAMARCO, INCLUSIVE FORNECIMENTO DE VIDRO LISO DE 4MM, FERRAGENS E ACESSÓRIOS | D48: M2 | E48: ='memória de cálculo'!I37 -> 12.38 | F48: 308.2 | G48: =ROUND(F48*H$5+F48,2) -> 372.61 | H48: =ROUND(G48*E48,2) -> 4612.91
A49: 7.2 | B49: SER-POR-095 | C49: FORNECIMENTO E ASSENTAMENTO DE PORTA DE ALUMÍNIO, LINHA SUPREMA ACABAMENTO ANODIZADO, TIPO CORRER, COM DUAS FOLHAS, INCLUSIVE FORNECIMENTO DE VIDRO LISO DE 4MM, FERRAGENS ACESSÓRIOS | D49: =D48 -> M2 | E49: ='memória de cálculo'!I38 -> 8 | F49: 405.1 | G49: =ROUND(F49*H$5+F49,2) -> 489.77 | H49: =ROUND(G49*E49,2) -> 3918.16
A50: 7.3 | B50: ESQ-POR-050 | C50: PORTA DE ABRIR, MADEIRA DE LEI PRANCHETA PARA PINTURA COMPLETA 80 X 210 CM,COM FERRAGENS EM FERRO LATONADO | D50: =D53 -> UN | E50: ='memória de cálculo'!I39 -> 1 | F50: 302.3 | G50: =ROUND(F50*H$5+F50,2) -> 365.48 | H50: =ROUND(G50*E50,2) -> 365.48
A51: 7.4 | B51: SEE-SER-160 | C51: PORTA METÁLICA 70 X 210 CM , INCLUINDO FECHADURA TIPO EXTERNA E FERRAGENS, CONFORME DETALHE PADRÃO ESCOLAR 4/98 VERSÃO 2005 | D51: =D50 -> UN | E51: ='memória de cálculo'!I40 -> 2 | F51: 412 | G51: =ROUND(F51*H$5+F51,2) -> 498.11 | H51: =ROUND(G51*E51,2) -> 996.22
A52: 7.5 | B52: SEE-SER-165 | C52: PORTA METÁLICA 80 X 210 CM , INCLUINDO FECHADURA TIPO EXTERNA E FERRAGENS, CONFORME DETALHE PADRÃO ESCOLAR 4/98 VERSÃO 2005 | D52: =D54 -> UN | E52: ='memória de cálculo'!I41 -> 2 | F52: 420.3 | G52: =ROUND(F52*H$5+F52,2) -> 508.14 | H52: =ROUND(G52*E52,2) -> 1016.28
A53: 7.6 | B53: 74070/004 | C53: FECHADURA DE EMBUTIR COMPLETA, PARA PORTAS INTERNAS, PADRAO DE ACABAMENTO MEDIO | D53: UN | E53: 1 | F53: 68 | G53: =ROUND(F53*H$5+F53,2) -> 82.21 | H53: =ROUND(G53*E53,2) -> 82.21
A54: 7.7 | B54: 74073/001 | C54: ALCAPAO EM FERRO 60X60CM, INCLUSO FERRAGENS | D54: UN | E54: ='memória de cálculo'!I43 -> 1 | F54: 75 | G54: =ROUND(F54*H$5+F54,2) -> 90.68 | H54: =ROUND(G54*E54,2) -> 90.68
A55: 7.8 | B55: SER-POR-060 | C55: PORTÃO DE TUBO DE FERRO COLOCADO COM CADEADO | D55: M2 | E55: ='memória de cálculo'!I44 -> 16.5 | F55: 258.2 | G55: =ROUND(F55*H$5+F55,2) -> 312.16 | H55: =ROUND(G55*E55,2) -> 5150.64
E56: TOTAL | H56: =SUM(H48:H55) -> 16232.58
A57: 8 | C57: INSTALAÇÕES HIDROSSANITÁRIAS
A58: 8.1 | B58: INST-ESG-005 | C58: PONTO DE ESGOTO, INCLUINDO TUBO DE PVC RÍGIDO SOLDÁVEL DE 40 MM E CONEXÕES (LAVATÓRIOS, MICTÓRIOS, RALOS SIFONADOS, ETC.) | D58: PT | E58: 2 | F58: 43.2 | G58: =ROUND(F58*H$5+F58,2) -> 52.23 | H58: =ROUND(G58*E58,2) -> 104.46
A59: 8.2 | B59: INST-ESG-010 | C59: PONTO DE ESGOTO, INCLUINDO TUBO DE PVC RÍGIDO SOLDÁVEL DE 50 MM E CONEXÕES (PIAS DE COZINHA, MÁQUINAS DE LAVAR, ETC.) | D59: PT | E59: 3 | F59: 61.47 | G59: =ROUND(F59*H$5+F59,2) -> 74.32 | H59: =ROUND(G59*E59,2) -> 222.96
A60: 8.3 | B60: INST-ESG-015 | C60: PONTO DE ESGOTO, INCLUINDO TUBO DE PVC RÍGIDO SOLDÁVEL DE 100 MM E CONEXÕES (VASO SANITÁRIO) | D60: PT | E60: 2 | F60: =+F59 -> 61.47 | G60: =ROUND(F60*H$5+F60,2) -> 74.32 | H60: =ROUND(G60*E60,2) -> 148.64
A61: 8.4 | B61: INST-AGU-010 | C61: PONTO DE ÁGUA FRIA EMBUTIDO, INCLUINDO TUBO DE PVC RÍGIDO ROSCÁVEL E CONEXÕES | D61: PT | E61: 6 | F61: 85.83 | G61: =ROUND(F61*H$5+F61,2) -> 103.77 | H61: =ROUND(G61*E61,2) -> 622.62
A62: 8.5 | B62: 89984 | C62: REGISTRO DE PRESSÃO BRUTO, LATÃO, ROSCÁVEL, 1/2", COM ACABAMENTO E CANOPLA CROMADOS. FORNECIDO E INSTALADO EM RAMAL DE ÁGUA. AF_12/2014 | D62: PT | E62: 3 | F62: 60.2 | G62: =ROUND(F62*H$5+F62,2) -> 72.78 | H62: =ROUND(G62*E62,2) -> 218.34
A63: 8.6 | B63: 94794 | C63: REGISTRO DE GAVETA BRUTO, LATÃO, ROSCÁVEL, 1 1/2", COM ACABAMENTO E CANOPLA CROMADOS, INSTALADO EM RESERVAÇÃO DE ÁGUA DE EDIFICAÇÃO QUE POSSUA RESERVATÓRIO DE FIBRA/FIBROCIMENTO FORNECIMENTO E INSTALAÇÃO. AF_06/2016 | D63: PT | E63: 2 | F63: 125.7 | G63: =ROUND(F63*H$5+F63,2) -> 151.97 | H63: =ROUND(G63*E63,2) -> 303.94
A64: 8.7 | B64: 99635 | C64: VÁLVULA DE DESCARGA METÁLICA, BASE 1 1/2 ", ACABAMENTO METALICO CROMADO - FORNECIMENTO E INSTALAÇÃO. AF_01/2019 | D64: UN | E64: 2 | F64: 214.35 | G64: =ROUND(F64*H$5+F64,2) -> 259.15 | H64: =ROUND(G64*E64,2) -> 518.3
A65: 8.8 | B65: 89707 | C65: CAIXA SIFONADA, PVC, DN 100 X 100 X 50 MM, JUNTA ELÁSTICA, FORNECIDA E INSTALADA EM RAMAL DE DESCARGA OU EM RAMAL DE ESGOTO SANITÁRIO. AF_12/2014 | D65: UN | E65: 3 | F65: 21.7 | G65: =ROUND(F65*H$5+F65,2) -> 26.24 | H65: =ROUND(G65*E65,2) -> 78.72
A66: 8.9 | B66: 95469 | C66: VASO SANITARIO SIFONADO CONVENCIONAL COM LOUÇA BRANCA - FORNECIMENTO E INSTALAÇÃO. AF_10/2016 | D66: UN | E66: 2 | F66: 162 | G66: =ROUND(F66*H$5+F66,2) -> 195.86 | H66: =ROUND(G66*E66,2) -> 391.72
A67: 8.10 | B67: 86904 | C67: LAVATÓRIO LOUÇA BRANCA SUSPENSO, 29,5 X 39CM OU EQUIVALENTE, PADRÃO POPULAR - FORNECIMENTO E INSTALAÇÃO. AF_12/2013 | D67: UN | E67: 2 | F67: 102.2 | G67: =ROUND(F67*H$5+F67,2) -> 123.56 | H67: =ROUND(G67*E67,2) -> 247.12
A68: 8.11 | B68: MET-DUC-005 | C68: DUCHA HIGIÊNICA COM REGISTRO PARA CONTROLE DE FLUXO DE ÁGUA 1/2" | D68: UN | E68: 2 | F68: 98.1 | G68: =ROUND(F68*H$5+F68,2) -> 118.6 | H68: =ROUND(G68*E68,2) -> 237.2
A69: 8.12 | B69: 86916 | C69: TORNEIRA PLÁSTICA 3/4" PARA TANQUE - FORNECIMENTO E INSTALAÇÃO. AF_12/2013 | D69: UN | E69: 3 | F69: 29.71 | G69: =ROUND(F69*H$5+F69,2) -> 35.92 | H69: =ROUND(G69*E69,2) -> 107.76
A70: 8.13 | B70: 93441 | C70: BANCADA DE GRANITO CINZA POLIDO 150 X 60 CM, COM CUBA DE EMBUTIR DE AÇO INOXIDÁVEL MÉDIA, VÁLVULA AMERICANA EM METAL CROMADO, SIFÃO FLEXÍVEL EM PVC, ENGATE FLEXÍVEL 30 CM, TORNEIRA CROMADA LONGA DE PAREDE, 1/2 OU 3/4, PARA PIA DE COZINHA, PADRÃO POPULAR- FORNEC. E INSTAL. AF_12/2013 | D70: UN | E70: 1 | F70: 750 | G70: =ROUND(F70*H$5+F70,2) -> 906.75 | H70: =ROUND(G70*E70,2) -> 906.75
A71: 8.14 | B71: 85005 | C71: ESPELHO CRISTAL, ESPESSURA 4MM, COM PARAFUSOS DE FIXACAO, SEM MOLDURA | D71: M2 | E71: =0.5*0.6*2 -> 0.6 | F71: 275.77 | G71: =ROUND(F71*H$5+F71,2) -> 333.41 | H71: =ROUND(G71*E71,2) -> 200.05
A72: 8.15 | B72: LOU-TAN-035 | C72: TANQUE DE POLIPROPILENO, CAPACIDADE 15 LITROS, INCLUSIVE ACESSÓRIOS DE FIXAÇÃO, VÁLVULA DE ESCOAMENTO DE PLÁSTICO(PVC) NA CORBRANCA,SIFÃO DE PLÁSTICO(PVC) TIPO COPO NA COR BRANCA,FORNECIMENTO E INSTALAÇÃO, EXCLUSIVE TORNEIRA | D72: UN | E72: 1 | F72: 102.2 | G72: =ROUND(F72*H$5+F72,2) -> 123.56 | H72: =ROUND(G72*E72,2) -> 123.56
A73: 8.16 | B73: 88503 | C73: CAIXA D´ÁGUA EM POLIETILENO, 1000 LITROS, COM ACESSÓRIOS | D73: UN | E73: 1 | F73: 622 | G73: =ROUND(F73*H$5+F73,2) -> 752 | H73: =ROUND(G73*E73,2) -> 752
A74: 8.17 | B74: 94795 | C74: TORNEIRA DE BOIA VAZAO TOTAL 1/2 COM BALAO PLASTICO - FORNECIMENTO E INSTALAÇÃO | D74: UN | E74: 1 | F74: 16.35 | G74: =ROUND(F74*H$5+F74,2) -> 19.77 | H74: =ROUND(G74*E74,2) -> 19.77
A75: 8.18 | B75: HID-CXS-020 | C75: CAIXA ALVENARIA 40 X 40 X 40 CM, TAMPA EM CONCRETOINSPEÇÃO/PASSAGEM, INCLUSIVE ESCAVAÇÃO, REATERRO E BOTA-FORA | D75: UN | E75: 3 | F75: 114.87 | G75: =ROUND(F75*H$5+F75,2) -> 138.88 | H75: =ROUND(G75*E75,2) -> 416.64
A76: 8.19 | B76: 98107 | C76: CAIXA DE GORDURA SIMPLES (CAPACIDADE: 36 L), RETANGULAR, EM ALVENARIA COM BLOCOS DE CONCRETO, DIMENSÕES INTERNAS = 0,2X0,4 M, ALTURA INTERNA = 0,8 M. AF_05/2018 | D76: UN | E76: 1 | F76: 200 | G76: =ROUND(F76*H$5+F76,2) -> 241.8 | H76: =ROUND(G76*E76,2) -> 241.8
A77: 8.20 | B77: 89714 | C77: TUBO PVC, SERIE NORMAL, ESGOTO PREDIAL, DN 100 MM, FORNECIDO E INSTALADO EM RAMAL DE DESCARGA OU RAMAL DE ESGOTO SANITÁRIO. AF_12/2014 | D77: UN | E77: 8 | F77: 39.05 | G77: =ROUND(F77*H$5+F77,2) -> 47.21 | H77: =ROUND(G77*E77,2) -> 377.68
A78: 8.21 | B78: ACE-BAR-015 | C78: BARRA DE APOIO EM AÇO INOX POLIDO RETA, DN 1.1/4" (31,75MM), PARA ACESSIBILIDADE (PMR/PCR), COMPRIMENTO 90CM, INSTALADO EM PAREDE, INCLUSIVE FORNECIMENTO, INSTALAÇÃO E ACESSÓRIOS PARA FIXAÇÃO | D78: UN | E78: 2 | F78: 169 | G78: =ROUND(F78*H$5+F78,2) -> 204.32 | H78: =ROUND(G78*E78,2) -> 408.64
A79: 8.22 | B79: 98052 | C79: TANQUE SÉPTICO CIRCULAR, EM CONCRETO PRÉ-MOLDADO, DIÂMETRO INTERNO = 1,10 M, ALTURA INTERNA = 2,50 M, VOLUME ÚTIL: 2138,2 L (PARA 5 CONTRIBU INTES). AF_05/2018 | D79: UN | E79: 1 | F79: 890 | G79: =ROUND(F79*H$5+F79,2) -> 1076.01 | H79: =ROUND(G79*E79,2) -> 1076.01
E80: TOTAL | H80: =SUM(H58:H79) -> 7724.68
A81: 9 | C81: INSTALAÇÕES ELÉTRICAS
A82: 9.1 | B82: 92980 | C82: CABO DE COBRE FLEXÍVEL ISOLADO, 10 MM², ANTI-CHAMA 450/750 V, PARA DISTRIBUIÇÃO - FORNECIMENTO E INSTALAÇÃO. AF_12/2015 | D82: M | E82: ='memória de cálculo'!I69 -> 48 | F82: 5 | G82: =ROUND(F82*H$5+F82,2) -> 6.05 | H82: =ROUND(G82*E82,2) -> 290.4
A83: 9.2 | B83: *INST-LUZ-005 | C83: PONTO DE LUZ EMBUTIDO, INCLUINDO ELETRODUTO DE PVC RÍGIDO E CAIXA COM ESPELHO (POR UNIDADE) | D83: PT | E83: ='memória de cálculo'!I70 -> 31 | F83: 155.64 | G83: =ROUND(F83*H$5+F83,2) -> 188.17 | H83: =ROUND(G83*E83,2) -> 5833.27
A84: 9.3 | B84: *INST-TOM-005 | C84: PONTO DE TOMADA DE EMBUTIR, INCLUINDO ELETRODUTO DE PVC RÍGIDO E CAIXA COM ESPELHO | D84: PT | E84: ='memória de cálculo'!I71 -> 19 | F84: 149.32 | G84: =ROUND(F84*H$5+F84,2) -> 180.53 | H84: =ROUND(G84*E84,2) -> 3430.07
A85: 9.5 | B85: *INST-INT-005 | C85: PONTO DE INTERRUPTOR, INCLUINDO ELETRODUTO DE PVC RÍGIDO E CAIXA COM ESPELHO | D85: PT | E85: ='memória de cálculo'!I72 -> 8 | F85: 173.09 | G85: =ROUND(F85*H$5+F85,2) -> 209.27 | H85: =ROUND(G85*E85,2) -> 1674.16
A86: 9.6 | B86: * INST-STVAL-010 | C86: PONTO SECO PARA INSTALAÇÃO DE SOM, TV, ALARME E LÓGICA, INCLUINDO ELETRODUTO DE PVC FLEXÍVEL CORRUGADO E CAIXA COM ESPELHO | D86: PT | E86: ='memória de cálculo'!I73 -> 2 | F86: 123.66 | G86: =ROUND(F86*H$5+F86,2) -> 149.5 | H86: =ROUND(G86*E86,2) -> 299
A87: 9.7 | B87: 74131/001 | C87: QUADRO DE DISTRIBUICAO DE ENERGIA DE EMBUTIR, EM CHAPA METALICA, PARA 6 DISJUNTORES TERMOMAGNETICOS MONOPOLARES SEM BARRAMENTO FORNECIMENTO E INSTALACAO | D87: UN | E87: ='memória de cálculo'!I74 -> 1 | F87: 54 | G87: =ROUND(F87*H$5+F87,2) -> 65.29 | H87: =ROUND(G87*E87,2) -> 65.29
A88: 9.9 | B88: 83443 | C88: CAIXA DE PASSAGEM 20X20X25 FUNDO BRITA COM TAMPA | D88: UN | E88: ='memória de cálculo'!I75 -> 3 | F88: 29.38 | G88: =ROUND(F88*H$5+F88,2) -> 35.52 | H88: =ROUND(G88*E88,2) -> 106.56
A89: 9.10 | B89: 74130/001 | C89: DISJUNTOR TERMOMAGNETICO MONOPOLAR PADRAO NEMA (AMERICANO) 10 A 30A 240V, FORNECIMENTO E INSTALACAO | D89: UN | E89: ='memória de cálculo'!I76 -> 3 | F89: 12.8 | G89: =ROUND(F89*H$5+F89,2) -> 15.48 | H89: =ROUND(G89*E89,2) -> 46.44
A90: 9.11 | B90: 74130/003 | C90: DISJUNTOR TERMOMAGNETICO BIPOLAR PADRAO NEMA (AMERICANO) 10 A 50A 240V, FORNECIMENTO E INSTALACAO | D90: UN | E90: ='memória de cálculo'!I77 -> 1 | F90: 65.6 | G90: =ROUND(F90*H$5+F90,2) -> 79.31 | H90: =ROUND(G90*E90,2) -> 79.31
A91: 9.15 | B91: 97591 | C91: LUMINÁRIA TIPO PLAFON REDONDO COM VIDRO FOSCO, DE SOBREPOR, COM 2 LÂMPADAS DE 15 W - FORNECIMENTO E INSTALAÇÃO. AF_11/2017 | D91: UN | E91: ='memória de cálculo'!I78 -> 25 | F91: 58.7 | G91: =ROUND(F91*H$5+F91,2) -> 70.97 | H91: =ROUND(G91*E91,2) -> 1774.25
A92: 9.16 | B92: ELE-PAD-050 | C92: PADRÃO CEMIG AÉREO TIPO H2, 5,1 <= CARGA INSTALADA <= 10 KW, BIFÁSICO | D92: UN | E92: ='memória de cálculo'!I79 -> 1 | F92: 992.33 | G92: =ROUND(F92*H$5+F92,2) -> 1199.73 | H92: =ROUND(G92*E92,2) -> 1199.73
A93: 9.17 | B93: 97608 | C93: LUMINÁRIA ARANDELA TIPO TARTARUGA, COM GRADE, PARA 1 LÂMPADA DE 15 W - FORNECIMENTO E INSTALAÇÃO. AF_11/201 | D93: UN | E93: ='memória de cálculo'!I80 -> 3 | F93: 66.14 | G93: =ROUND(F93*H$5+F93,2) -> 79.96 | H93: =ROUND(G93*E93,2) -> 239.88
E94: =E80 -> TOTAL | H94: =SUM(H82:H93) -> 15038.36
A95: 10 | C95: REVESTIMENTOS
A96: 10.1 | B96: 87879 | C96: CHAPISCO APLICADO EM ALVENARIAS E ESTRUTURAS DE CONCRETO INTERNAS, COM COLHER DE PEDREIRO. ARGAMASSA TRAÇO 1:3 COM PREPARO EM BETONEIRA 400 L. AF_06/2014 | D96: M2 | E96: ='memória de cálculo'!I82 -> 593.26 | F96: 2.8 | G96: =ROUND(F96*H$5+F96,2) -> 3.39 | H96: =ROUND(G96*E96,2) -> 2011.15
A97: 10.2 | B97: 87529 | C97: MASSA ÚNICA, PARA RECEBIMENTO DE PINTURA, EM ARGAMASSA TRAÇO 1:2:8, PREPARO MECÂNICO COM BETONEIRA 400L, APLICADA MANUALMENTE EM FACES INTERNAS DE PAREDES, ESPESSURA DE 20MM, COM EXECUÇÃO DE TALISCAS. AF_06/2014 | D97: M2 | E97: ='memória de cálculo'!I83 -> 593.26 | F97: 24.8 | G97: =ROUND(F97*H$5+F97,2) -> 29.98 | H97: =ROUND(G97*E97,2) -> 17785.93
A98: 10.3 | B98: 87273 | C98: REVESTIMENTO CERÂMICO PARA PAREDES INTERNAS COM PLACAS TIPO ESMALTADA EXTRA DE DIMENSÕES 33X45 CM APLICADAS EM AMBIENTES DE ÁREA MAIOR QUE 5 M² NA ALTURA INTEIRA DAS PAREDES. AF_06/2014 | D98: M2 | E98: ='memória de cálculo'!I84 -> 28.371 | F98: 38.15 | G98: =ROUND(F98*H$5+F98,2) -> 46.12 | H98: =ROUND(G98*E98,2) -> 1308.47
E99: =E94 -> TOTAL | H99: =SUM(H96:H98) -> 21105.55
A100: 11 | C100: PISOS
...

Sheet memória de cálculo
A1: MEMÓRIA DE CÁLCULO
A2: ='PLANILHA orçamentária'!C7 -> SERVIÇOS PRELIMINARES
A3: ='PLANILHA orçamentária'!C8 -> FORNECIMENTO E COLOCAÇÃO DE PLACA DE OBRA EM CHAPA GALVANIZADA (2,00 X 1,00 M) - EM CHAPA GALVANIZADA 0,26 AFIXADAS COM REBITES 540 E PARAFUSOS 3/8, EM ESTRUTURA METÁLICA VIGA U 2" ENRIJECIDA COM METALON 20X20, SUPORTE EM EUCALIPTO AUTOCLAVADO PINTADAS | D3: ='PLANILHA orçamentária'!D8 -> Und | E3: 1*1 | I3: 1
A4: ='[1]Planilia Atualizada'!D7 -> LOCACAO CONVENCIONAL DE OBRA, ATRAVÉS DE GABARITO DE TABUAS CORRIDAS PONTALETADAS A CADA 1,50M, SEM REAPROVEITAMENTO | D4: ='PLANILHA orçamentária'!D9 -> M2 | E4: 10,95*11,75 | I4: =10.95*11.75 -> 128.6625
A5: ='PLANILHA orçamentária'!C11 -> MOVIMENTO DE TERRA
A6: ='PLANILHA orçamentária'!C12 -> ESCAVAÇÃO MANUAL DE VALAS H <= 1,50 M | D6: ='PLANILHA orçamentária'!D12 -> M3 | E6: (0,7*0,6)*1,5*17+71*0,3*0,35 | I6: =+(0.7*0.6)*1.5*17+71*0.3*0.35 -> 18.165
A7: ='PLANILHA orçamentária'!C13 -> REGULARIZAÇÃO E COMPACTAÇÃO DE TERRENO MANUAL, COM SOQUETE | D7: ='PLANILHA orçamentária'!D13 -> M2 | E7: (0,7*0,6)*17+71*0,3 | I7: =(0.7*0.6)*17+71*0.3 -> 28.44
A8: ='PLANILHA orçamentária'!C14 -> REATERRO MANUAL DE VALA | D8: ='PLANILHA orçamentária'!D14 -> M3 | E8: (0,7*0,6)*1,5*17+71*0,3*0,35) - (0,7*0,6)*0,25*17+(0,25*0,15)*1,25*17+71*0,15*0,35) | I8: ='PLANILHA orçamentária'!E12-'PLANILHA orçamentária'!E21 -> 12.388125
A9: ='PLANILHA orçamentária'!C15 -> ATERRO COMPACTADO COM PLACA VIBRATÓRIA | D9: ='PLANILHA orçamentária'!D15 -> M3 | E9: (7,5+1,3+4,62+2,69+1,56+32,03+33,56)*0,2 | I9: =(7.5+1.3+4.62+2.69+1.56+32.03+33.56)*0.2 -> 16.652
A10: ='PLANILHA orçamentária'!C17 -> FUNDAÇÕES
A11: ='PLANILHA orçamentária'!C18 -> LASTRO DE CONCRETO MAGRO, INCLUSIVE TRANSPORTE, LANÇAMENTO E ADENSAMENTO | D11: ='PLANILHA orçamentária'!D18 -> M3 | E11: (0,7*0,6)*17+71*0,3)*0,05 | I11: =((0.7*0.6)*17+71*0.3)*0.05 -> 1.422
A12: ='PLANILHA orçamentária'!C19 -> FORMA E DESFORMA EM TÁBUAS DE PINHO (3X) | D12: ='PLANILHA orçamentária'!D19 -> M2 | E12: (0,7*2+0,6*2)*0,25*17+71*0,35*2 | I12: =+(0.7*2+0.6*2)*0.25*17+71*0.35*2 -> 60.75
A13: ='PLANILHA orçamentária'!C20 -> CORTE, DOBRA E ARMAÇÃO DE AÇO CA-50/60 | D13: ='PLANILHA orçamentária'!D20 -> KG | E13: 5,78*60 | I13: =5.78*60 -> 346.8
A14: ='PLANILHA orçamentária'!C21 -> CONCRETO ESTRUTURAL, PREPARADO EM OBRA COM BETONEIRA, CONTROLE "A", COM FCK 20 MPA ,BRITA Nº (1E2), CONSISTÊNCIA PARA VIBRAÇÃO (FABRICAÇÃO) | D14: ='PLANILHA orçamentária'!D21 -> M3 | E14: (0,7*0,6)*0,25*17+(0,25*0,15)*1,25*17+71*0,15*0,3 | I14: =+(0.7*0.6)*0.25*17+(0.25*0.15)*1.25*17+71*0.15*0.3 -> 5.776875
A15: ='PLANILHA orçamentária'!C22 -> LANÇAMENTO DE CONCRETO EM ESTRUTURA, INCLUSIVE TRANSPORTE ATÉ O LOCAL DE APLICAÇÃO, EXCLUSIVE APLICAÇÃO | D15: ='PLANILHA orçamentária'!D22 -> M3 | E15: (0,7*0,6)*0,25*17+(0,25*0,15)*1,25*17+71*0,15*0,3 | I15: =+(0.7*0.6)*0.25*17+(0.25*0.15)*1.25*17+71*0.15*0.3 -> 5.776875
A16: ='PLANILHA orçamentária'!C23 -> PINTURA COM EMULSÃO ASFÁLTICA, DUAS (2) DEMÃOS | D16: ='PLANILHA orçamentária'!D23 -> M2 | E16: 71*0,15*3 | I16: =71*0.15*3 -> 31.95
A17: ='PLANILHA orçamentária'!C25 -> ESTRUTURA
A18: ='PLANILHA orçamentária'!C26 -> FORMA E DESFORMA EM TÁBUAS DE PINHO (3X) | D18: ='PLANILHA orçamentária'!D26 -> M2 | E18: (0,25*2)*4,5*14+3,14*0,2*2*3*3+55,68*2*0,3 | I18: =(0.25*2)*4.5*14+3.14*0.2*2*3*3+55.68*2*0.3 -> 76.212
A19: ='PLANILHA orçamentária'!C27 -> CORTE, DOBRA E ARMAÇÃO DE AÇO CA-50/60 | D19: ='PLANILHA orçamentária'!D27 -> KG | E19: 6,18*80 | I19: =6.18*80 -> 494.4
A20: ='PLANILHA orçamentária'!C28 -> CONCRETO ESTRUTURAL, PREPARADO EM OBRA COM BETONEIRA, CONTROLE "A", COM FCK 20 MPA ,BRITA Nº (1E2), CONSISTÊNCIA PARA VIBRAÇÃO (FABRICAÇÃO) | D20: ='PLANILHA orçamentária'!D28 -> M3 | E20: (0,25*0,15)*4,5*14+3,14*0,2*0,2*3*3+59,68*0,15*0,3 | I20: =(0.25*0.15)*4.5*14+3.14*0.2*0.2*3*3+59.68*0.15*0.3 -> 6.1785
A21: ='PLANILHA orçamentária'!C29 -> LANÇAMENTO DE CONCRETO EM ESTRUTURA, INCLUSIVE TRANSPORTE ATÉ O LOCAL DE APLICAÇÃO, EXCLUSIVE APLICAÇÃO | D21: ='PLANILHA orçamentária'!D29 -> M3 | E21: (0,25*0,15)*4,5*14+3,14*0,2*0,2*3*3+59,68*0,15*0,3 | I21: =(0.25*0.15)*4.5*14+3.14*0.2*0.2*3*3+59.68*0.15*0.3 -> 6.1785
A22: ='PLANILHA orçamentária'!C30 -> VERGA 10X10CM EM CONCRETO PRÉ-MOLDADO FCK=20MPA (PREPARO COM BETONEIRA) AÇO CA60, BITOLA FINA, INCLUSIVE FORMAS TABUA 3A. | D22: ='PLANILHA orçamentária'!D30 -> M | E22: 7.8 | I22: 7.8
A23: ='PLANILHA orçamentária'!C31 -> LAJE PRÉ-MOLDADA, A REVESTIR, INCLUSIVE CAPEAMENTO E=4CM, SC = 100 KG/M2, L = 3,00 M | D23: ='PLANILHA orçamentária'!D31 -> M2 | E23: 91.74 | I23: 91.74
A24: ='PLANILHA orçamentária'!C33 -> COBERTURA
A25: ='PLANILHA orçamentária'!C34 -> FORNECIMENTO, FABRICAÇÃO, TRANSPORTE E MONTAGEM DE ESTRUTURA METÁLICA PARA TELHADO SOBRE LAJE PARA TELHAS METÁLICAS, INCLUSIVE PINTURA PRIMER | D25: ='PLANILHA orçamentária'!D34 -> M2 | E25: 85.65 | I25: 85.65
A26: ='PLANILHA orçamentária'!C35 -> COBERTURA EM TELHA METÁLICA GALVANIZADA TRAPEZOIDAL, TIPO SIMPLES, ESP. 0,50MM, ACABAMENTO NATURAL, INCLUSIVE ACESSÓRIOS PARA FIXAÇÃO, FORNECIMENTO E INSTALAÇÃO | D26: ='PLANILHA orçamentária'!D35 -> M2 | E26: 85.65 | I26: 85.65
A27: ='PLANILHA orçamentária'!C36 -> COLOCAÇÃO DE CUMEEIRA GALVANIZADA TRAPEZOIDAL E=0,50MM, SIMPLES | D27: ='PLANILHA orçamentária'!D36 -> M | E27: 9.1 | I27: 9.1
A28: ='PLANILHA orçamentária'!C37 -> RUFO E CONTRA-RUFO DE CHAPA GALVANIZADA Nº.24, DESENVOLVIMENTO = 15 CM | D28: ='PLANILHA orçamentária'!D37 -> M | E28: 41,12+9,35 | I28: =41.12+9.35 -> 50.47
A29: ='PLANILHA orçamentária'!C38 -> CALHA DE CHAPA GALVANIZADA Nº. 26 GSG, DESENVOLVIMENTO= 50 CM | D29: ='PLANILHA orçamentária'!D38 -> M | E29: 9,05*2+6+8 | I29: =9.05*2+6+8 -> 32.1
A30: ='PLANILHA orçamentária'!C39 -> CHAPIM METÁLICO, COM PINGADEIRA, CHAPA GALVANIZADA Nº 24, DESENVOLVIMENTO = 35 CM | D30: ='PLANILHA orçamentária'!D39 -> M | E30: =E28 -> 41,12+9,35 | I30: =I28 -> 50.47
A31: ='PLANILHA orçamentária'!C40 -> CONDUTOR DE AP DO TELHADO EM TUBO PVC ESGOTO, INCLUSIVE CONEXÕES E SUPORTES, 75 MM | D31: ='PLANILHA orçamentária'!D40 -> M | E31: 3*4 | I31: =3*4 -> 12
A32: ='[1]Planilia Atualizada'!D37 -> PAREDES E PAINEIS
A33: ='PLANILHA orçamentária'!C43 -> ALVENARIA DE VEDAÇÃO COM BLOCO DE CONCRETO, ESP. 14CM, PARA REVESTIMENTO, INCLUSIVE ARGAMASSA PARA ASSENTAMENTO | D33: ='PLANILHA orçamentária'!D43 -> M2 | E33: 71*3+35*1,2 | I33: =71*3+35*1.2 -> 255
A34: ='PLANILHA orçamentária'!C44 -> SOLEIRA DE GRANITO CINZA ANDORINHA E = 2 CM | D34: ='PLANILHA orçamentária'!D44 -> M2 | E34: (0,7*2+0,8*2+3,2)*0,15 | I34: =+(0.7*2+0.8*2+3.2)*0.15 -> 0.93
A35: ='PLANILHA orçamentária'!C45 -> PEITORIL DE GRANITO CINZA ANDORINHA E = 2 CM | D35: ='PLANILHA orçamentária'!D45 -> M2 | E35: (0,7*8+1,5*2)*0,18 | I35: =(0.7*8+1.5*2)*0.18 -> 1.548
A36: ='PLANILHA orçamentária'!C47 -> ESQUADRIAS E FERRAGENS
A37: ='PLANILHA orçamentária'!C48 -> FORNECIMENTO E ASSENTAMENTO DE JANELA DE ALUMÍNIO, LINHA SUPREMA ACABAMENTO ANODIZADO, TIPO BASCULA COM CONTRAMARCO, INCLUSIVE FORNECIMENTO DE VIDRO LISO DE 4MM, FERRAGENS E ACESSÓRIOS | D37: ='PLANILHA orçamentária'!D48 -> M2 | E37: 0,7*2*6+1,5*2+0,7*0,7*2 | I37: =0.7*2*6+1.5*2+0.7*0.7*2 -> 12.38
A38: ='PLANILHA orçamentária'!C49 -> FORNECIMENTO E ASSENTAMENTO DE PORTA DE ALUMÍNIO, LINHA SUPREMA ACABAMENTO ANODIZADO, TIPO CORRER, COM DUAS FOLHAS, INCLUSIVE FORNECIMENTO DE VIDRO LISO DE 4MM, FERRAGENS ACESSÓRIOS | D38: ='PLANILHA orçamentária'!D49 -> M2 | E38: 3,2*2,5 | I38: =3.2*2.5 -> 8
A39: ='PLANILHA orçamentária'!C50 -> PORTA DE ABRIR, MADEIRA DE LEI PRANCHETA PARA PINTURA COMPLETA 80 X 210 CM,COM FERRAGENS EM FERRO LATONADO | D39: ='PLANILHA orçamentária'!D50 -> UN | E39: 1*1 | I39: =1*1 -> 1
A40: ='PLANILHA orçamentária'!C51 -> PORTA METÁLICA 70 X 210 CM , INCLUINDO FECHADURA TIPO EXTERNA E FERRAGENS, CONFORME DETALHE PADRÃO ESCOLAR 4/98 VERSÃO 2005 | D40: ='PLANILHA orçamentária'!D51 -> UN | E40: 1*2 | I40: =1*2 -> 2
A41: ='PLANILHA orçamentária'!C52 -> PORTA METÁLICA 80 X 210 CM , INCLUINDO FECHADURA TIPO EXTERNA E FERRAGENS, CONFORME DETALHE PADRÃO ESCOLAR 4/98 VERSÃO 2005 | D41: ='PLANILHA orçamentária'!D52 -> UN | E41: 1*2 | I41: =1*2 -> 2
A42: ='PLANILHA orçamentária'!C53 -> FECHADURA DE EMBUTIR COMPLETA, PARA PORTAS INTERNAS, PADRAO DE ACABAMENTO MEDIO | D42: ='PLANILHA orçamentária'!D53 -> UN | E42: 5*1 | I42: =5*1 -> 5
A43: ='PLANILHA orçamentária'!C54 -> ALCAPAO EM FERRO 60X60CM, INCLUSO FERRAGENS | D43: ='PLANILHA orçamentária'!D54 -> UN | E43: 1*1 | I43: =1*1 -> 1
A44: ='PLANILHA orçamentária'!C55 -> PORTÃO DE TUBO DE FERRO COLOCADO COM CADEADO | D44: ='PLANILHA orçamentária'!D55 -> M2 | E44: 4*2,2+3,5*2,2 | I44: =4*2.2+3.5*2.2 -> 16.5
A45: ='PLANILHA orçamentária'!C57 -> INSTALAÇÕES HIDROSSANITÁRIAS
A46: ='PLANILHA orçamentária'!C58 -> PONTO DE ESGOTO, INCLUINDO TUBO DE PVC RÍGIDO SOLDÁVEL DE 40 MM E CONEXÕES (LAVATÓRIOS, MICTÓRIOS, RALOS SIFONADOS, ETC.) | D46: ='PLANILHA orçamentária'!D58 -> PT | E46: 1*2 | I46: 2
A47: ='PLANILHA orçamentária'!C59 -> PONTO DE ESGOTO, INCLUINDO TUBO DE PVC RÍGIDO SOLDÁVEL DE 50 MM E CONEXÕES (PIAS DE COZINHA, MÁQUINAS DE LAVAR, ETC.) | D47: ='PLANILHA orçamentária'!D59 -> PT | E47: 1*3 | I47: =1*3 -> 3
A48: ='PLANILHA orçamentária'!C60 -> PONTO DE ESGOTO, INCLUINDO TUBO DE PVC RÍGIDO SOLDÁVEL DE 100 MM E CONEXÕES (VASO SANITÁRIO) | D48: ='PLANILHA orçamentária'!D60 -> PT | E48: 1*2 | I48: 2
A49: ='PLANILHA orçamentária'!C61 -> PONTO DE ÁGUA FRIA EMBUTIDO, INCLUINDO TUBO DE PVC RÍGIDO ROSCÁVEL E CONEXÕES | D49: ='PLANILHA orçamentária'!D61 -> PT | E49: 1*6 | I49: 6
A50: ='PLANILHA orçamentária'!C62 -> REGISTRO DE PRESSÃO BRUTO, LATÃO, ROSCÁVEL, 1/2", COM ACABAMENTO E CANOPLA CROMADOS. FORNECIDO E INSTALADO EM RAMAL DE ÁGUA. AF_12/2014 | D50: ='PLANILHA orçamentária'!D62 -> PT | E50: 1*3 | I50: 3
A51: ='PLANILHA orçamentária'!C63 -> REGISTRO DE GAVETA BRUTO, LATÃO, ROSCÁVEL, 1 1/2", COM ACABAMENTO E CANOPLA CROMADOS, INSTALADO EM RESERVAÇÃO DE ÁGUA DE EDIFICAÇÃO QUE POSSUA RESERVATÓRIO DE FIBRA/FIBROCIMENTO FORNECIMENTO E INSTALAÇÃO. AF_06/2016 | D51: ='PLANILHA orçamentária'!D63 -> PT | E51: 1*2 | I51: 2
A52: ='PLANILHA orçamentária'!C64 -> VÁLVULA DE DESCARGA METÁLICA, BASE 1 1/2 ", ACABAMENTO METALICO CROMADO - FORNECIMENTO E INSTALAÇÃO. AF_01/2019 | D52: ='PLANILHA orçamentária'!D64 -> UN | E52: 1*2 | I52: 2
A53: ='PLANILHA orçamentária'!C65 -> CAIXA SIFONADA, PVC, DN 100 X 100 X 50 MM, JUNTA ELÁSTICA, FORNECIDA E INSTALADA EM RAMAL DE DESCARGA OU EM RAMAL DE ESGOTO SANITÁRIO. AF_12/2014 | D53: ='PLANILHA orçamentária'!D65 -> UN | E53: 1*3 | I53: 3
A54: ='PLANILHA orçamentária'!C66 -> VASO SANITARIO SIFONADO CONVENCIONAL COM LOUÇA BRANCA - FORNECIMENTO E INSTALAÇÃO. AF_10/2016 | D54: ='PLANILHA orçamentária'!D66 -> UN | E54: 1*2 | I54: 2
A55: ='PLANILHA orçamentária'!C67 -> LAVATÓRIO LOUÇA BRANCA SUSPENSO, 29,5 X 39CM OU EQUIVALENTE, PADRÃO POPULAR - FORNECIMENTO E INSTALAÇÃO. AF_12/2013 | D55: ='PLANILHA orçamentária'!D67 -> UN | E55: 1*2 | I55: 2
A56: ='PLANILHA orçamentária'!C68 -> DUCHA HIGIÊNICA COM REGISTRO PARA CONTROLE DE FLUXO DE ÁGUA 1/2" | D56: ='PLANILHA orçamentária'!D68 -> UN | E56: 1*2 | I56: 2
A57: ='PLANILHA orçamentária'!C69 -> TORNEIRA PLÁSTICA 3/4" PARA TANQUE - FORNECIMENTO E INSTALAÇÃO. AF_12/2013 | D57: ='PLANILHA orçamentária'!D69 -> UN | E57: 1*3 | I57: 3
A58: ='PLANILHA orçamentária'!C70 -> BANCADA DE GRANITO CINZA POLIDO 150 X 60 CM, COM CUBA DE EMBUTIR DE AÇO INOXIDÁVEL MÉDIA, VÁLVULA AMERICANA EM METAL CROMADO, SIFÃO FLEXÍVEL EM PVC, ENGATE FLEXÍVEL 30 CM, TORNEIRA CROMADA LONGA DE PAREDE, 1/2 OU 3/4, PARA PIA DE COZINHA, PADRÃO POPULAR- FORNEC. E INSTAL. AF_12/2013 | D58: ='PLANILHA orçamentária'!D70 -> UN | E58: 1*1 | I58: 1
A59: ='PLANILHA orçamentária'!C71 -> ESPELHO CRISTAL, ESPESSURA 4MM, COM PARAFUSOS DE FIXACAO, SEM MOLDURA | D59: ='PLANILHA orçamentária'!D71 -> M2 | E59: 0,5*0,6*2 | I59: =0.5*0.6*2 -> 0.6
A60: ='PLANILHA orçamentária'!C72 -> TANQUE DE POLIPROPILENO, CAPACIDADE 15 LITROS, INCLUSIVE ACESSÓRIOS DE FIXAÇÃO, VÁLVULA DE ESCOAMENTO DE PLÁSTICO(PVC) NA CORBRANCA,SIFÃO DE PLÁSTICO(PVC) TIPO COPO NA COR BRANCA,FORNECIMENTO E INSTALAÇÃO, EXCLUSIVE TORNEIRA | D60: ='PLANILHA orçamentária'!D72 -> UN | E60: 1*1 | I60: 1
A61: ='PLANILHA orçamentária'!C73 -> CAIXA D´ÁGUA EM POLIETILENO, 1000 LITROS, COM ACESSÓRIOS | D61: ='PLANILHA orçamentária'!D73 -> UN | E61: 1*1 | I61: =1*1 -> 1
A62: ='PLANILHA orçamentária'!C74 -> TORNEIRA DE BOIA VAZAO TOTAL 1/2 COM BALAO PLASTICO - FORNECIMENTO E INSTALAÇÃO | D62: ='PLANILHA orçamentária'!D74 -> UN | E62: 1*1 | I62: =1.75*0.6+3.5*0.6+1.4*0.4+1.7*0.7 -> 4.9
A63: ='PLANILHA orçamentária'!C75 -> CAIXA ALVENARIA 40 X 40 X 40 CM, TAMPA EM CONCRETOINSPEÇÃO/PASSAGEM, INCLUSIVE ESCAVAÇÃO, REATERRO E BOTA-FORA | D63: ='PLANILHA orçamentária'!D75 -> UN | E63: 1*3 | I63: 1*3
A64: ='PLANILHA orçamentária'!C76 -> CAIXA DE GORDURA SIMPLES (CAPACIDADE: 36 L), RETANGULAR, EM ALVENARIA COM BLOCOS DE CONCRETO, DIMENSÕES INTERNAS = 0,2X0,4 M, ALTURA INTERNA = 0,8 M. AF_05/2018 | D64: ='PLANILHA orçamentária'!D76 -> UN | E64: 1*1 | I64: =1*1 -> 1
A65: ='PLANILHA orçamentária'!C77 -> TUBO PVC, SERIE NORMAL, ESGOTO PREDIAL, DN 100 MM, FORNECIDO E INSTALADO EM RAMAL DE DESCARGA OU RAMAL DE ESGOTO SANITÁRIO. AF_12/2014 | D65: ='PLANILHA orçamentária'!D77 -> UN | E65: 1*8 | I65: 8
A66: ='PLANILHA orçamentária'!C78 -> BARRA DE APOIO EM AÇO INOX POLIDO RETA, DN 1.1/4" (31,75MM), PARA ACESSIBILIDADE (PMR/PCR), COMPRIMENTO 90CM, INSTALADO EM PAREDE, INCLUSIVE FORNECIMENTO, INSTALAÇÃO E ACESSÓRIOS PARA FIXAÇÃO | D66: ='PLANILHA orçamentária'!D78 -> UN | E66: 1*2 | I66: 2
A67: ='PLANILHA orçamentária'!C79 -> TANQUE SÉPTICO CIRCULAR, EM CONCRETO PRÉ-MOLDADO, DIÂMETRO INTERNO = 1,10 M, ALTURA INTERNA = 2,50 M, VOLUME ÚTIL: 2138,2 L (PARA 5 CONTRIBU INTES). AF_05/2018 | D67: ='PLANILHA orçamentária'!D79 -> UN | E67: 1*1 | I67: 1
A68: ='PLANILHA orçamentária'!C81 -> INSTALAÇÕES ELÉTRICAS
A69: ='PLANILHA orçamentária'!C82 -> CABO DE COBRE FLEXÍVEL ISOLADO, 10 MM², ANTI-CHAMA 450/750 V, PARA DISTRIBUIÇÃO - FORNECIMENTO E INSTALAÇÃO. AF_12/2015 | D69: ='PLANILHA orçamentária'!D82 -> M | E69: 16*3 | I69: =16*3 -> 48
A70: ='PLANILHA orçamentária'!C83 -> PONTO DE LUZ EMBUTIDO, INCLUINDO ELETRODUTO DE PVC RÍGIDO E CAIXA COM ESPELHO (POR UNIDADE) | D70: ='PLANILHA orçamentária'!D83 -> PT | E70: 31*1 | I70: 31
A71: ='PLANILHA orçamentária'!C84 -> PONTO DE TOMADA DE EMBUTIR, INCLUINDO ELETRODUTO DE PVC RÍGIDO E CAIXA COM ESPELHO | D71: ='PLANILHA orçamentária'!D84 -> PT | E71: 1*19 | I71: =1*19 -> 19
A72: ='PLANILHA orçamentária'!C85 -> PONTO DE INTERRUPTOR, INCLUINDO ELETRODUTO DE PVC RÍGIDO E CAIXA COM ESPELHO | D72: ='PLANILHA orçamentária'!D85 -> PT | E72: 1*8 | I72: 8
A73: ='PLANILHA orçamentária'!C86 -> PONTO SECO PARA INSTALAÇÃO DE SOM, TV, ALARME E LÓGICA, INCLUINDO ELETRODUTO DE PVC FLEXÍVEL CORRUGADO E CAIXA COM ESPELHO | D73: ='PLANILHA orçamentária'!D86 -> PT | E73: 1*2 | I73: 2
A74: ='PLANILHA orçamentária'!C87 -> QUADRO DE DISTRIBUICAO DE ENERGIA DE EMBUTIR, EM CHAPA METALICA, PARA 6 DISJUNTORES TERMOMAGNETICOS MONOPOLARES SEM BARRAMENTO FORNECIMENTO E INSTALACAO | D74: ='PLANILHA orçamentária'!D87 -> UN | E74: 1*1 | I74: =1*1 -> 1
A75: ='PLANILHA orçamentária'!C88 -> CAIXA DE PASSAGEM 20X20X25 FUNDO BRITA COM TAMPA | D75: ='PLANILHA orçamentária'!D88 -> UN | E75: 1*3 | I75: 3
A76: ='PLANILHA orçamentária'!C89 -> DISJUNTOR TERMOMAGNETICO MONOPOLAR PADRAO NEMA (AMERICANO) 10 A 30A 240V, FORNECIMENTO E INSTALACAO | D76: ='PLANILHA orçamentária'!D89 -> UN | E76: 3*1 | I76: 3
A77: ='PLANILHA orçamentária'!C90 -> DISJUNTOR TERMOMAGNETICO BIPOLAR PADRAO NEMA (AMERICANO) 10 A 50A 240V, FORNECIMENTO E INSTALACAO | D77: ='PLANILHA orçamentária'!D90 -> UN | E77: 1*1 | I77: 1
A78: ='PLANILHA orçamentária'!C91 -> LUMINÁRIA TIPO PLAFON REDONDO COM VIDRO FOSCO, DE SOBREPOR, COM 2 LÂMPADAS DE 15 W - FORNECIMENTO E INSTALAÇÃO. AF_11/2017 | D78: ='PLANILHA orçamentária'!D91 -> UN | E78: 1*25 | I78: 25
A79: ='PLANILHA orçamentária'!C92 -> PADRÃO CEMIG AÉREO TIPO H2, 5,1 <= CARGA INSTALADA <= 10 KW, BIFÁSICO | D79: ='PLANILHA orçamentária'!D92 -> UN | E79: 1*1 | I79: 1
A80: ='PLANILHA orçamentária'!C93 -> LUMINÁRIA ARANDELA TIPO TARTARUGA, COM GRADE, PARA 1 LÂMPADA DE 15 W - FORNECIMENTO E INSTALAÇÃO. AF_11/201 | D80: ='PLANILHA orçamentária'!D93 -> UN | E80: 1*3 | I80: =1*3 -> 3
A81: ='[1]Planilia Atualizada'!D88 -> REVESTIMENTOS
A82: ='PLANILHA orçamentária'!C96 -> CHAPISCO APLICADO EM ALVENARIAS E ESTRUTURAS DE CONCRETO INTERNAS, COM COLHER DE PEDREIRO. ARGAMASSA TRAÇO 1:3 COM PREPARO EM BETONEIRA 400 L. AF_06/2014 | D82: ='PLANILHA orçamentária'!D96 -> M2 | E82: 255*2+83,26 | I82: =255*2+83.26 -> 593.26
A83: ='PLANILHA orçamentária'!C97 -> MASSA ÚNICA, PARA RECEBIMENTO DE PINTURA, EM ARGAMASSA TRAÇO 1:2:8, PREPARO MECÂNICO COM BETONEIRA 400L, APLICADA MANUALMENTE EM FACES INTERNAS DE PAREDES, ESPESSURA DE 20MM, COM EXECUÇÃO DE TALISCAS. AF_06/2014 | D83: ='PLANILHA orçamentária'!D97 -> M2 | E83: 255*2+83,26 | I83: =255*2+83.26 -> 593.26
A84: ='PLANILHA orçamentária'!C98 -> REVESTIMENTO CERÂMICO PARA PAREDES INTERNAS COM PLACAS TIPO ESMALTADA EXTRA DE DIMENSÕES 33X45 CM APLICADAS EM AMBIENTES DE ÁREA MAIOR QUE 5 M² NA ALTURA INTEIRA DAS PAREDES. AF_06/2014 | D84: ='PLANILHA orçamentária'!D98 -> M2 | E84: (6,61+0,5*2+8,9)*2,1-((0,8+0,7)*2,1*2) | I84: =(6.61+0.5*2+8.9)*2.1-((0.8+0.7)*2.1*2) -> 28.371
A85: ='PLANILHA orçamentária'!C100 -> PISOS
A86: ='PLANILHA orçamentária'!C101 -> CONTRAPISO DESEMPENADO COM ARGAMASSA, TRAÇO 1:3 (CIMENTO E AREIA), ESP. 20MM | D86: ='PLANILHA orçamentária'!D101 -> M2 | E86: 7,5+1,3+4,62+2,69+1,56+32,03+33,56 | I86: =7.5+1.3+4.62+2.69+1.56+32.03+33.56 -> 83.26
A87: ='PLANILHA orçamentária'!C102 -> REVESTIMENTO CERÂMICO PARA PISO COM PLACAS TIPO ESMALTADA EXTRA DE DIMENSÕES 45X45 CM APLICADA EM AMBIENTES DE ÁREA ENTRE 5 M2 E 10 M2. AF_06/2014 | D87: ='PLANILHA orçamentária'!D102 -> M2 | E87: (7,5+1,3+4,62+2,69+1,56+32,03+33,57)*1,1 | I87: =(7.5+1.3+4.62+2.69+1.56+32.03+33.57)*1.1 -> 91.597
A88: ='PLANILHA orçamentária'!C103 -> PASSEIOS DE CONCRETO E = 6 CM, FCK = 10 MPA, JUNTA SECA | D88: ='PLANILHA orçamentária'!D103 -> M2 | E88: 12*2+2,25*4 | I88: =12*2+2.25*4 -> 33
A89: ='PLANILHA orçamentária'!C104 -> PISO PODOTÁTIL DE CONCRETO, DIRECIONAL, APLICADO EM PISO (20X20CM) COM JUNTA SECA, COR VERMELHO/AMARELO, ASSENTAMENTO COM ARGAMASSA INDUSTRIALIZADA, INCLUSIVE FORNECIMENTO E INSTALAÇÃO | D89: ='PLANILHA orçamentária'!D104 -> M2 | E89: 1,8*0,6+(5,7+3,3)*0,2 | I89: =1.8*0.6+(5.7+3.3)*0.2 -> 2.88
A90: ='[1]Planilia Atualizada'!D100 -> PINTURAS
A91: ='PLANILHA orçamentária'!C107 -> APLICAÇÃO DE FUNDO SELADOR ACRÍLICO EM PAREDES, UMA DEMÃO. AF_06/2014 | D91: ='PLANILHA orçamentária'!D107 -> M2 | E91: 593,26-28,37 | I91: =593.26-28.37 -> 564.89
A92: ='PLANILHA orçamentária'!C108 -> APLICAÇÃO MANUAL DE PINTURA COM TINTA LÁTEX ACRÍLICA EM PAREDES, DUAS DEMÃOS. AF_06/2014 | D92: ='PLANILHA orçamentária'!D108 -> M2 | E92: 593,26-28,37 | I92: =593.26-28.37 -> 564.89
A93: ='PLANILHA orçamentária'!C109 -> PINTURA ESMALTE FOSCO, DUAS DEMAOS, | D93: ='PLANILHA orçamentária'!D109 -> M2 | E93: 8*0,8*2,1 | I93: =2*(8*0.8*2.1) -> 26.88
A94: ='PLANILHA orçamentária'!C111 -> SISTEMA DE PROTEÇÃO CONTRA INCÊNDIO
A95: ='PLANILHA orçamentária'!C112 -> EXTINTOR INCENDIO TP PO QUIMICO 6KG - FORNECIMENTO E INSTALACAO | D95: ='PLANILHA orçamentária'!D112 -> UN | E95: 1*1 | I95: 1
A96: ='PLANILHA orçamentária'!C113 -> LUMINÁRIA DE EMERGÊNCIA AUTÔNOMA IE-16 COM LÂMPADA DE 8 W | D96: ='PLANILHA orçamentária'!D113 -> UN | E96: 1*1 | I96: 1
A97: ='PLANILHA orçamentária'!C114 -> PLACA FOTOLUMINESCENTE, CONFORME PROJETO. | D97: ='PLANILHA orçamentária'!D114 -> UN | E97: 1*6 | I97: 6
A98: ='PLANILHA orçamentária'!C116 -> MURO EXTERNO
A99: ='PLANILHA orçamentária'!C117 -> MURO DIVISÓRIO BLOCO CERÂMICO REVESTIDO E PINTADO E = 15 CM, H = 2,20 M, INCLUSIVE SAPATA DE CONCRETO ARMADO FCK = 15 MPA, 50 X 55 CM | D99: ='PLANILHA orçamentária'!D117 -> M | E99: 5,9*1 | I99: 5.9
A100: ='PLANILHA orçamentária'!C118 -> PLANTIO DE GRAMA ESMERALDA | D100: ='[1]Planilia Atualizada'!E112 -> M2 | E100: 6 | I100: 6
...

Sheet  CRNOGRAMA 1
A1: CRONOGRAMA FÍSICO FINANCEIRO
A3: =#REF! -> #REF! | B3: =+'PLANILHA orçamentária'!B4:E4 -> CONSTRUÇÃO DE CAPELA VELÓRIO COM ÁREA CONSTRUÍDA DE 91,74M2 | G3: PERÍODO | Q3: data
A4: =#REF! -> #REF! | B4: =+'PLANILHA orçamentária'!B5:E5 -> RUA PACÍFICO SANTO DE ALMEIDA, S/Nº - CENTRO - NOVORIZONTE/MG | Q4: ='PLANILHA orçamentária'!H4 -> 44007
A5: ITEM | B5: DISCRIMINAÇÃO DOS SERVIÇOS | F5: VALOR | G5: MÊS 01 | H5: MÊS 02 | I5: MÊS 03 | J5: MÊS 04 | K5: MÊS 05 | L5: MÊS 06 | M5: MÊS 07 | N5: MÊS 08 | O5: MÊS 09 | P5: MÊS 10 | Q5: SUB-TOTAL
A6: =+#REF! -> #REF! | B6: ='PLANILHA orçamentária'!C7 -> SERVIÇOS PRELIMINARES | F6: ='PLANILHA orçamentária'!H10 -> 1517.03 | G6: =$F6*G7 -> 1517.03 | H6: =$F6*H7 -> 0 | I6: =$F6*I7 -> 0 | J6: =$F6*J7 -> 0 | K6: =$F6*K7 -> 0 | L6: =$F6*L7 -> 0 | M6: =$F6*M7 -> 0 | N6: =$F6*N7 -> 0 | ... P6: =$F6*P7 -> 0 | Q6: =IF(Q7=100%,F6,0) -> 1517.03
G7: 1 | Q7: =SUM(G7:P7) -> 1
A8: 2 | B8: ='PLANILHA orçamentária'!C11 -> MOVIMENTO DE TERRA | F8: ='PLANILHA orçamentária'!H16 -> 2490.07 | G8: =$F8*G9 -> 2490.07 | H8: =$F8*H9 -> 0 | I8: =$F8*I9 -> 0 | J8: =$F8*J9 -> 0 | K8: =$F8*K9 -> 0 | L8: =$F8*L9 -> 0 | M8: =$F8*M9 -> 0 | N8: =$F8*N9 -> 0 | ... P8: =$F8*P9 -> 0 | Q8: =IF(Q9=100%,F8,0) -> 2490.07
G9: 1 | Q9: =SUM(G9:P9) -> 1
A10: 3 | B10: ='PLANILHA orçamentária'!C17 -> FUNDAÇÕES | F10: ='PLANILHA orçamentária'!H24 -> 9729.4 | G10: =$F10*G11 -> 9729.4 | H10: =$F10*H11 -> 0 | I10: =$F10*I11 -> 0 | J10: =$F10*J11 -> 0 | K10: =$F10*K11 -> 0 | L10: =$F10*L11 -> 0 | M10: =$F10*M11 -> 0 | N10: =$F10*N11 -> 0 | ... P10: =$F10*P11 -> 0 | Q10: =IF(Q11=100%,F10,0) -> 9729.4
G11: 1 | Q11: =SUM(G11:P11) -> 1
A12: 4 | B12: ='PLANILHA orçamentária'!C25 -> ESTRUTURA | F12: ='PLANILHA orçamentária'!H32 -> 18431.16 | G12: =$F12*G13 -> 0 | H12: =$F12*H13 -> 18431.16 | I12: =$F12*I13 -> 0 | J12: =$F12*J13 -> 0 | K12: =$F12*K13 -> 0 | L12: =$F12*L13 -> 0 | M12: =$F12*M13 -> 0 | N12: =$F12*N13 -> 0 | ... P12: =$F12*P13 -> 0 | Q12: =IF(Q13=100%,F12,0) -> 18431.16
H13: 1 | Q13: =SUM(G13:P13) -> 1
A14: 5 | B14: ='PLANILHA orçamentária'!C33 -> COBERTURA | F14: ='PLANILHA orçamentária'!H41 -> 13859.86 | G14: =$F14*G15 -> 0 | H14: =$F14*H15 -> 6929.93 | I14: =$F14*I15 -> 6929.93 | J14: =$F14*J15 -> 0 | K14: =$F14*K15 -> 0 | L14: =$F14*L15 -> 0 | M14: =$F14*M15 -> 0 | N14: =$F14*N15 -> 0 | ... P14: =$F14*P15 -> 0 | Q14: =IF(Q15=100%,F14,0) -> 13859.86
H15: 0.5 | I15: 0.5 | Q15: =SUM(G15:P15) -> 1
A16: 6 | B16: ='PLANILHA orçamentária'!C42 -> PAREDES E PAINEIS | F16: =+'PLANILHA orçamentária'!H46 -> 11508.42 | G16: =$F16*G17 -> 5754.21 | H16: =$F16*H17 -> 5754.21 | I16: =$F16*I17 -> 0 | J16: =$F16*J17 -> 0 | K16: =$F16*K17 -> 0 | L16: =$F16*L17 -> 0 | M16: =$F16*M17 -> 0 | N16: =$F16*N17 -> 0 | ... P16: =$F16*P17 -> 0 | Q16: =IF(Q17=100%,F16,0) -> 11508.42
G17: 0.5 | H17: 0.5 | Q17: =SUM(G17:P17) -> 1
A18: 7 | B18: ='PLANILHA orçamentária'!C47 -> ESQUADRIAS E FERRAGENS | F18: ='PLANILHA orçamentária'!H56 -> 16232.58 | H18: =$F18*H19 -> 0 | I18: =$F18*I19 -> 11362.806 | J18: =$F18*J19 -> 4869.774 | K18: =$F18*K19 -> 0 | L18: =$F18*L19 -> 0 | M18: =$F18*M19 -> 0 | N18: =$F18*N19 -> 0 | O18: =$F18*O19 -> 0 | P18: =$F18*P19 -> 0 | Q18: =IF(Q19=100%,F18,0) -> 16232.58
I19: 0.7 | J19: 0.3 | Q19: =SUM(G19:P19) -> 1
A20: 8 | B20: ='PLANILHA orçamentária'!C57 -> INSTALAÇÕES HIDROSSANITÁRIAS | F20: ='PLANILHA orçamentária'!H80 -> 7724.68 | G20: =$F20*G21 -> 1931.17 | H20: =$F20*H21 -> 1931.17 | I20: =$F20*I21 -> 1544.936 | J20: =$F20*J21 -> 2317.404 | K20: =$F20*K21 -> 0 | L20: =$F20*L21 -> 0 | M20: =$F20*M21 -> 0 | N20: =$F20*N21 -> 0 | ... P20: =$F20*P21 -> 0 | Q20: =IF(Q21=100%,F20,0) -> 7724.68
G21: 0.25 | H21: 0.25 | I21: 0.2 | J21: 0.3 | Q21: =SUM(G21:P21) -> 1
A22: 9 | B22: ='PLANILHA orçamentária'!C81 -> INSTALAÇÕES ELÉTRICAS | F22: ='PLANILHA orçamentária'!H94 -> 15038.36 | G22: =$F22*G23 -> 1503.836 | H22: =$F22*H23 -> 1503.836 | I22: =$F22*I23 -> 6015.344 | J22: =$F22*J23 -> 6015.344 | K22: =$F22*K23 -> 0 | L22: =$F22*L23 -> 0 | M22: =$F22*M23 -> 0 | N22: =$F22*N23 -> 0 | ... P22: =$F22*P23 -> 0 | Q22: =IF(Q23=100%,F22,0) -> 15038.36
G23: 0.1 | H23: 0.1 | I23: 0.4 | J23: 0.4 | Q23: =SUM(G23:P23) -> 1
A24: 10 | B24: ='PLANILHA orçamentária'!C95 -> REVESTIMENTOS | F24: ='PLANILHA orçamentária'!H99 -> 21105.55 | G24: =$F24*G25 -> 0 | H24: =$F24*H25 -> 4221.11 | I24: =$F24*I25 -> 10552.775 | J24: =$F24*J25 -> 6331.665 | K24: =$F24*K25 -> 0 | L24: =$F24*L25 -> 0 | M24: =$F24*M25 -> 0 | N24: =$F24*N25 -> 0 | ... P24: =$F24*P25 -> 0 | Q24: =IF(Q25=100%,F24,0) -> 21105.55
H25: 0.2 | I25: 0.5 | J25: 0.3 | Q25: =SUM(G25:P25) -> 1
A26: 11 | B26: ='PLANILHA orçamentária'!C100 -> PISOS | F26: ='PLANILHA orçamentária'!H105 -> 8698.57 | G26: =$F26*G27 -> 1739.714 | H26: =$F26*H27 -> 2609.571 | I26: =$F26*I27 -> 2609.571 | J26: =$F26*J27 -> 1739.714 | K26: =$F26*K27 -> 0 | L26: =$F26*L27 -> 0 | M26: =$F26*M27 -> 0 | N26: =$F26*N27 -> 0 | ... P26: =$F26*P27 -> 0 | Q26: =IF(Q27=100%,F26,0) -> 8698.57
G27: 0.2 | H27: 0.3 | I27: 0.3 | J27: 0.2 | Q27: =SUM(G27:P27) -> 1
A28: 12 | B28: ='PLANILHA orçamentária'!C106 -> PINTURAS | F28: ='PLANILHA orçamentária'!H110 -> 7817.01 | G28: =$F28*G29 -> 0 | H28: =$F28*H29 -> 0 | I28: =$F28*I29 -> 0 | J28: =$F28*J29 -> 7817.01 | K28: =$F28*K29 -> 0 | L28: =$F28*L29 -> 0 | M28: =$F28*M29 -> 0 | N28: =$F28*N29 -> 0 | ... P28: =$F28*P29 -> 0 | Q28: =IF(Q29=100%,F28,0) -> 7817.01
J29: 1 | Q29: =SUM(G29:P29) -> 1
A30: 13 | B30: ='PLANILHA orçamentária'!C111 -> SISTEMA DE PROTEÇÃO CONTRA INCÊNDIO | F30: ='PLANILHA orçamentária'!H115 -> 358.27 | G30: =$F30*G31 -> 0 | H30: =$F30*H31 -> 0 | I30: =$F30*I31 -> 0 | J30: =$F30*J31 -> 358.27 | K30: =$F30*K31 -> 0 | L30: =$F30*L31 -> 0 | M30: =$F30*M31 -> 0 | N30: =$F30*N31 -> 0 | ... P30: =$F30*P31 -> 0 | Q30: =IF(Q31=100%,F30,0) -> 358.27
J31: 1 | Q31: =SUM(G31:P31) -> 1
A32: 14 | B32: ='PLANILHA orçamentária'!C116 -> MURO EXTERNO | F32: ='PLANILHA orçamentária'!H121 -> 2961.51 | G32: =$F32*G33 -> 0 | H32: =$F32*H33 -> 0 | I32: =$F32*I33 -> 0 | J32: =$F32*J33 -> 2961.51 | K32: =$F32*K33 -> 0 | L32: =$F32*L33 -> 0 | M32: =$F32*M33 -> 0 | N32: =$F32*N33 -> 0 | ... P32: =$F32*P33 -> 0 | Q32: =IF(Q33=100%,F32,0) -> 2961.51
J33: 1 | Q33: =SUM(G33:P33) -> 1
A34: 15 | B34: ='PLANILHA orçamentária'!C122 -> SERVIÇOS COMPLEMENTARES | F34: ='PLANILHA orçamentária'!H124 -> 269.73 | G34: =$F34*G35 -> 0 | H34: =$F34*H35 -> 0 | I34: =$F34*I35 -> 0 | J34: =$F34*J35 -> 269.73 | K34: =$F34*K35 -> 0 | L34: =$F34*L35 -> 0 | M34: =$F34*M35 -> 0 | N34: =$F34*N35 -> 0 | ... P34: =$F34*P35 -> 0 | Q34: =IF(Q35=100%,F34,0) -> 269.73
J35: 1 | Q35: =SUM(G35:P35) -> 1
G36: =$F36*G37 -> 0 | H36: =$F36*H37 -> 0 | I36: =$F36*I37 -> 0 | P36: =$F36*P37 -> 0 | Q36: =IF(Q37=100%,F36,0) -> 0
P37: 6 | Q37: =SUM(G37:P37) -> 6
G38: =$F38*G39 -> 0 | H38: =$F38*H39 -> 0 | I38: =$F38*I39 -> 0 | P38: =$F38*P39 -> 0 | Q38: =IF(Q39=100%,F38,0) -> 0
P39: 7 | Q39: =SUM(G39:P39) -> 7
G40: =$F40*G41 -> 0 | H40: =$F40*H41 -> 0 | I40: =$F40*I41 -> 0 | P40: =$F40*P41 -> 0 | Q40: =IF(Q41=100%,F40,0) -> 0
P41: 8 | Q41: =SUM(G41:P41) -> 8
G42: =$F42*G43 -> 0 | H42: =$F42*H43 -> 0 | I42: =$F42*I43 -> 0 | P42: =$F42*P43 -> 0 | Q42: =IF(Q43=100%,F42,0) -> 0
P43: 9
B44: VALOR DO PERÍODO | F44: =SUM(F6:F43) -> 137742.2 | G44: =G8+G10+G12+G14+G16+G42+G20+G22+G24+G26+G28+G32+G34+G36+G38+G40+G6+G18+G30 -> 24665.43 | H44: =H8+H10+H12+H14+H16+H42+H20+H22+H24+H26+H28+H32+H34+H36+H38+H40+H6+H18+H30 -> 41380.987 | I44: =I8+I10+I12+I14+I16+I42+I20+I22+I24+I26+I28+I32+I34+I36+I38+I40+I6+I18+I30 -> 39015.362 | J44: =J8+J10+J12+J14+J16+J42+J20+J22+J24+J26+J28+J32+J34+J36+J38+J40+J6+J18+J30 -> 32680.421 | K44: =K8+K10+K12+K14+K16+K42+K20+K22+K24+K26+K28+K32+K34+K36+K38+K40+K6+K18+K30 -> 0 | L44: =L8+L10+L12+L14+L16+L42+L20+L22+L24+L26+L28+L32+L34+L36+L38+L40+L6+L18+L30 -> 0 | M44: =M8+M10+M12+M14+M16+M42+M20+M22+M24+M26+M28+M32+M34+M36+M38+M40+M6+M18+M30 -> 0 | N44: =N8+N10+N12+N14+N16+N42+N20+N22+N24+N26+N28+N32+N34+N36+N38+N40+N6+N18+N30 -> 0 | ... Q44: =Q8+Q10+Q12+Q14+Q16+Q42+Q20+Q22+Q24+Q26+Q28+Q32+Q34+Q36+Q38+Q40+Q6+Q18+Q30 -> 137742.2
B45: VALOR ACUMULADO | G45: =G44 -> 24665.43 | H45: =H44+G45 -> 66046.417 | I45: =I44+H45 -> 105061.78 | J45: =J44+I45 -> 137742.2 | K45: =K44+J45 -> 137742.2 | L45: =L44+K45 -> 137742.2 | M45: =M44+L45 -> 137742.2 | N45: =N44+I45 -> 105061.78 | O45: =O44+N45 -> 105061.78 | P45: =P44+O45 -> 105061.78
B46: PERCENTUAL DO PERÍODO | G46: =(G44/$F$44) -> 0.17906952 | H46: =(H44/$F$44) -> 0.30042345 | I46: =(I44/$F$44) -> 0.28324916 | J46: =(J44/$F$44) -> 0.23725787 | K46: =(K44/$F$44) -> 0 | L46: =(L44/$F$44) -> 0 | M46: =(M44/$F$44) -> 0 | N46: =(N44/$F$44) -> 0 | ... P46: =(P44/$F$44) -> 0
B47: PERCENTUAL ACUMULADO | G47: =(G45/$F$44) -> 0.17906952 | H47: =(H45/$F$44) -> 0.47949297 | I47: =(I45/$F$44) -> 0.76274213 | J47: =(J45/$F$44) -> 1 | K47: =(K45/$F$44) -> 1 | L47: =(L45/$F$44) -> 1 | M47: =(M45/$F$44) -> 1 | N47: =(N45/$F$44) -> 0.76274213 | ... P47: =(P45/$F$44) -> 0.76274213
A51: ='PLANILHA orçamentária'!C130 -> VINÍCIUS MODESTO COSTA MATOS - ENG. CIVIL, CREA: MG219.180/D | G51: ='PLANILHA orçamentária'!A127 -> NOVORIZONTE-MG, 25/06/2020
